BEGIN:VCALENDAR
VERSION:2.0
PRODID:-//Vereinigung der Verfolgten des Naziregimes - ECPv6.15.20//NONSGML v1.0//EN
CALSCALE:GREGORIAN
METHOD:PUBLISH
X-ORIGINAL-URL:https://frankfurtmain.vvn-bda.de
X-WR-CALDESC:Veranstaltungen für Vereinigung der Verfolgten des Naziregimes
REFRESH-INTERVAL;VALUE=DURATION:PT1H
X-Robots-Tag:noindex
X-PUBLISHED-TTL:PT1H
BEGIN:VTIMEZONE
TZID:Europe/Paris
BEGIN:DAYLIGHT
TZOFFSETFROM:+0100
TZOFFSETTO:+0200
TZNAME:CEST
DTSTART:20230326T010000
END:DAYLIGHT
BEGIN:STANDARD
TZOFFSETFROM:+0200
TZOFFSETTO:+0100
TZNAME:CET
DTSTART:20231029T010000
END:STANDARD
BEGIN:DAYLIGHT
TZOFFSETFROM:+0100
TZOFFSETTO:+0200
TZNAME:CEST
DTSTART:20240331T010000
END:DAYLIGHT
BEGIN:STANDARD
TZOFFSETFROM:+0200
TZOFFSETTO:+0100
TZNAME:CET
DTSTART:20241027T010000
END:STANDARD
BEGIN:DAYLIGHT
TZOFFSETFROM:+0100
TZOFFSETTO:+0200
TZNAME:CEST
DTSTART:20250330T010000
END:DAYLIGHT
BEGIN:STANDARD
TZOFFSETFROM:+0200
TZOFFSETTO:+0100
TZNAME:CET
DTSTART:20251026T010000
END:STANDARD
END:VTIMEZONE
BEGIN:VEVENT
DTSTART;TZID=Europe/Paris:20240215T190000
DTEND;TZID=Europe/Paris:20240215T210000
DTSTAMP:20260423T005901
CREATED:20240115T152210Z
LAST-MODIFIED:20240123T170632Z
UID:6921-1708023600-1708030800@frankfurtmain.vvn-bda.de
SUMMARY:antifa Erzählcafé mit Rapper Kutlu Yurtseven
DESCRIPTION:Kutlu Yurtseven spricht an diesem Abend über das autobiografische Buch „Eine ehrenwerte Familie. Die Microphone Mafia – Mehr als nur Musik“\, das er zusammen mit seinem Freund und Weggefährten Rossi Pennino geschrieben hat. Begleiten wird er seinen Vortrag musikalisch mit antirassistischen und antifaschistischen Rap-Texten. Über seine Band sagt er: „Microphone Mafia\, die einzige ‚Mafia’\, die die Welt braucht“.\nAufgewachsen im Schatten der Bayer-Werke\, würdigen Kutlu und Rossi in ihrem Buch die erste Generation jener Arbeitsmigrant*innen\, die alles gaben. Neben unbeschwerten Stücken prägen solche über die Brandanschläge der 1990er Jahre sowie über die NSU-Morde und -Anschläge das Repertoire der Band. Kutlu ist empört darüber\, dass Politik sich nicht um die Betroffenen und um rassistische Strukturen in staatlichen Institutionen kümmerte\, sondern im Umkreis der Opfer nach kriminellen Ausländermilieus suchte.\nDie Zusammenarbeit mit Esther und Joram Bejarano ist ein besonderes Kapitel der Bandgeschichte\, auch das wird an diesem Abend zur Sprache kommen.\nKutlu Yurtseven\, geboren 1973\, rappt auf Türkisch und Deutsch und ist Gründungsmitglied der Rap-Band „Microphone Mafia“. Seine Eltern kamen 1968 als Gastarbeiter nach Deutschland. Nach den NSU-Anschlägen beteiligte er sich an der Initiative „Keupstraße ist überall“ und wirkte am Theaterstück „Die Lücke“ des Kölner Schauspiels mit. \nEine Veranstaltung der VVN-BdA Frankfurt in Kooperation mit dem Club Voltaire.
URL:https://frankfurtmain.vvn-bda.de/event/antifa-erzaehlcafe-mit-kutlu-yurtseven-lesung-und-rap-musik/
LOCATION:Club Voltaire\, Kleine Hochstr. 5\, 60313 Frankfurt
END:VEVENT
END:VCALENDAR