BEGIN:VCALENDAR
VERSION:2.0
PRODID:-//Vereinigung der Verfolgten des Naziregimes - ECPv6.15.20//NONSGML v1.0//EN
CALSCALE:GREGORIAN
METHOD:PUBLISH
X-ORIGINAL-URL:https://frankfurtmain.vvn-bda.de
X-WR-CALDESC:Veranstaltungen für Vereinigung der Verfolgten des Naziregimes
REFRESH-INTERVAL;VALUE=DURATION:PT1H
X-Robots-Tag:noindex
X-PUBLISHED-TTL:PT1H
BEGIN:VTIMEZONE
TZID:Europe/Paris
BEGIN:DAYLIGHT
TZOFFSETFROM:+0100
TZOFFSETTO:+0200
TZNAME:CEST
DTSTART:20230326T010000
END:DAYLIGHT
BEGIN:STANDARD
TZOFFSETFROM:+0200
TZOFFSETTO:+0100
TZNAME:CET
DTSTART:20231029T010000
END:STANDARD
BEGIN:DAYLIGHT
TZOFFSETFROM:+0100
TZOFFSETTO:+0200
TZNAME:CEST
DTSTART:20240331T010000
END:DAYLIGHT
BEGIN:STANDARD
TZOFFSETFROM:+0200
TZOFFSETTO:+0100
TZNAME:CET
DTSTART:20241027T010000
END:STANDARD
BEGIN:DAYLIGHT
TZOFFSETFROM:+0100
TZOFFSETTO:+0200
TZNAME:CEST
DTSTART:20250330T010000
END:DAYLIGHT
BEGIN:STANDARD
TZOFFSETFROM:+0200
TZOFFSETTO:+0100
TZNAME:CET
DTSTART:20251026T010000
END:STANDARD
END:VTIMEZONE
BEGIN:VEVENT
DTSTART;TZID=Europe/Paris:20240627T190000
DTEND;TZID=Europe/Paris:20240627T210000
DTSTAMP:20260422T201644
CREATED:20240611T163207Z
LAST-MODIFIED:20240611T163207Z
UID:7454-1719514800-1719522000@frankfurtmain.vvn-bda.de
SUMMARY:antifa Erzählcafé zum Arbeitserziehungslager Heddernheim: „Weitere Personalien nicht bekannt“
DESCRIPTION:Das im Norden Frankfurts gelegene „Arbeitserziehungslager Heddernheim“ wurde am 30. Oktober 1941 durch Erlass des Reichsicherheitshauptamtes genehmigt und am 1. April 1942 eröffnet.\nMehr als 10.000 Häftlinge waren bis Kriegsende in dem von der Gestapo Frankfurt betriebenen AEL inhaftiert. Der Lageralltag war bestimmt von Mangelernährung\, harter Arbeit\, schweren Misshandlungen und offenen Hinrichtungen. Viele der Insassen starben in Heddernheim oder wurden nach ihrem Weitertransport in die im Osten gelegenen Konzentrations- und Vernichtungslager ermordet.\nDer ehemalige Lagerleiter\, SS-Untersturmführer Hans Tauber\, wurde 1951 zu 5 ½ Jahren Gefängnis verurteilt. Er war unter den Häftlingen für seine besondere Grausamkeit bekannt. Das Wachpersonal wiederum bestand aus ca. 70 zumeist notdienstverpflichteten Männern. Sie waren für die täglichen Misshandlungen im Lager verantwortlich und führten die Hinrichtungen durch. Dennoch blieben die rechtlichen Konsequenzen nach Kriegsende gering.\nBei dem Vortrag handelt es sich um einen Werkstattbericht\, der sich einerseits der Geschichte des AEL Heddernheim widmet und andererseits nach den justiziellen Ermittlungen gegen das Lagerpersonal nach 1945 fragt. Dabei wird deutlich\, dass es sich um ein in der Forschung bislang wenig beachtetes Thema handelt\, das auch in der Frankfurter Stadtgesellschaft kaum bekannt ist.\nLisa Schrimpf\, MA\, promoviert am Frankfurter Lehrstuhl zur Erforschung der Geschichte und Wirkung des Holocaust zum Arbeitserziehungslager Heddernheim und den justiziellen Ermittlungen gegen das Lagerpersonal nach 1945. Zur Durchführung ihres Vorhabens erhält sie momentan das Promotionsstipendium der Stiftung Ökohaus Frankfurt. \nEintritt frei\nEine Veranstaltung der VVN-BdA Frankfurt in Kooperation mit dem Club Voltaire.\nLink (KLICK)
URL:https://frankfurtmain.vvn-bda.de/event/antifa-erzaehlcafe-zum-arbeitserziehungslager-heddernheim-weitere-personalien-nicht-bekannt/
LOCATION:Club Voltaire\, Kleine Hochstr. 5\, 60313 Frankfurt
END:VEVENT
END:VCALENDAR