BEGIN:VCALENDAR
VERSION:2.0
PRODID:-//Vereinigung der Verfolgten des Naziregimes - ECPv6.15.20//NONSGML v1.0//EN
CALSCALE:GREGORIAN
METHOD:PUBLISH
X-WR-CALNAME:Vereinigung der Verfolgten des Naziregimes
X-ORIGINAL-URL:https://frankfurtmain.vvn-bda.de
X-WR-CALDESC:Veranstaltungen für Vereinigung der Verfolgten des Naziregimes
REFRESH-INTERVAL;VALUE=DURATION:PT1H
X-Robots-Tag:noindex
X-PUBLISHED-TTL:PT1H
BEGIN:VTIMEZONE
TZID:Europe/Paris
BEGIN:DAYLIGHT
TZOFFSETFROM:+0100
TZOFFSETTO:+0200
TZNAME:CEST
DTSTART:20230326T010000
END:DAYLIGHT
BEGIN:STANDARD
TZOFFSETFROM:+0200
TZOFFSETTO:+0100
TZNAME:CET
DTSTART:20231029T010000
END:STANDARD
BEGIN:DAYLIGHT
TZOFFSETFROM:+0100
TZOFFSETTO:+0200
TZNAME:CEST
DTSTART:20240331T010000
END:DAYLIGHT
BEGIN:STANDARD
TZOFFSETFROM:+0200
TZOFFSETTO:+0100
TZNAME:CET
DTSTART:20241027T010000
END:STANDARD
BEGIN:DAYLIGHT
TZOFFSETFROM:+0100
TZOFFSETTO:+0200
TZNAME:CEST
DTSTART:20250330T010000
END:DAYLIGHT
BEGIN:STANDARD
TZOFFSETFROM:+0200
TZOFFSETTO:+0100
TZNAME:CET
DTSTART:20251026T010000
END:STANDARD
END:VTIMEZONE
BEGIN:VEVENT
DTSTART;TZID=Europe/Paris:20240704T190000
DTEND;TZID=Europe/Paris:20240704T210000
DTSTAMP:20260422T190336
CREATED:20240612T152232Z
LAST-MODIFIED:20240612T152613Z
UID:7460-1720119600-1720126800@frankfurtmain.vvn-bda.de
SUMMARY:antifaFilm: Ku-Klux-Klan (Doku\, 98 Min.)
DESCRIPTION:Am Ende des Bürgerkriegs in den USA 1865 gelten die Männer in den weißen Umhängen mit den spitzen Mützen und dem brennenden Kreuz als Vorreiter eines aberwitzigen Rassismus. Der KLAN ist als erste faschistische Bewegung zu begreifen und war eine bemerkenswerte Vorschau darauf\, wie faschistische Bewegungen im Europa der Zeit 1919-1939 funktionierten. Aktuell entstand in den USA der „Trumpismus“ und immer noch gibt es den KLAN und die „White Power“. Wir erleben eine zutiefst gespaltene\, bis an die Zähne bewaffnete Supermacht. Wo sind die demokratischen und antifaschistischen Gegenkräfte\, die sich gegen skrupellose Gegner vor und nach der Präsidentenwahl noch behaupten können? \nMit Einleitung und anschließendem Filmgespräch.\nDie Filmreihe wird veranstaltet von: VVN-BdA Frankfurt\, A.N.P.I. Frankfurt\, Dritte Welt Haus; in Kooperation mit: Elfer Music Club\nFlyer mit weiteren Vorführungen siehe: https://frankfurtmain.vvn-bda.de/wp-content/uploads/sites/25/2024/06/aF_Flyer-Sommerreihe-2024-1.pdf
URL:https://frankfurtmain.vvn-bda.de/event/antifaschistische-filmreihe-ku-klux-klan-doku-98-min/
LOCATION:Elfer Music Club\, Kleine Rittergasse 14-20\, 60594 Frankfurt
END:VEVENT
END:VCALENDAR