BEGIN:VCALENDAR
VERSION:2.0
PRODID:-//Vereinigung der Verfolgten des Naziregimes - ECPv6.15.20//NONSGML v1.0//EN
CALSCALE:GREGORIAN
METHOD:PUBLISH
X-WR-CALNAME:Vereinigung der Verfolgten des Naziregimes
X-ORIGINAL-URL:https://frankfurtmain.vvn-bda.de
X-WR-CALDESC:Veranstaltungen für Vereinigung der Verfolgten des Naziregimes
REFRESH-INTERVAL;VALUE=DURATION:PT1H
X-Robots-Tag:noindex
X-PUBLISHED-TTL:PT1H
BEGIN:VTIMEZONE
TZID:Europe/Paris
BEGIN:DAYLIGHT
TZOFFSETFROM:+0100
TZOFFSETTO:+0200
TZNAME:CEST
DTSTART:20230326T010000
END:DAYLIGHT
BEGIN:STANDARD
TZOFFSETFROM:+0200
TZOFFSETTO:+0100
TZNAME:CET
DTSTART:20231029T010000
END:STANDARD
BEGIN:DAYLIGHT
TZOFFSETFROM:+0100
TZOFFSETTO:+0200
TZNAME:CEST
DTSTART:20240331T010000
END:DAYLIGHT
BEGIN:STANDARD
TZOFFSETFROM:+0200
TZOFFSETTO:+0100
TZNAME:CET
DTSTART:20241027T010000
END:STANDARD
BEGIN:DAYLIGHT
TZOFFSETFROM:+0100
TZOFFSETTO:+0200
TZNAME:CEST
DTSTART:20250330T010000
END:DAYLIGHT
BEGIN:STANDARD
TZOFFSETFROM:+0200
TZOFFSETTO:+0100
TZNAME:CET
DTSTART:20251026T010000
END:STANDARD
END:VTIMEZONE
BEGIN:VEVENT
DTSTART;TZID=Europe/Paris:20240716T183000
DTEND;TZID=Europe/Paris:20240716T200000
DTSTAMP:20260422T190346
CREATED:20240611T154151Z
LAST-MODIFIED:20240617T145459Z
UID:7421-1721154600-1721160000@frankfurtmain.vvn-bda.de
SUMMARY:Arbeiterwiderstand 1933-1945 – Vortrag von Ulrich Schneider
DESCRIPTION:Wenn in der bundesdeutschen Geschichtsschreibung an den Widerstand erinnert wurde\, dann meinte man damit vor allem die Wehrmachtsoffiziere des 20. Juli oder den studentischen Widerstand um die „Weiße Rose“.  Doch es waren zuallererst Frauen und Männer aus der Arbeiterbewegung\, die sich dem Regime entgegenstellten. Deren Geschichte auch für heute lebendig zu halten\, ist eine Aufgabe antifaschistischer Erinnerungsarbeit. Es geht um den Kampf gegen den aufkommenden Faschismus\, wobei die Spaltung der Arbeiterbewegung deren Kräfte behinderte. Man half Verfolgten bei der Flucht\, knüpfte Netzwerke oder klärte mit Flugblättern auf. Im Exil wurden Analysen zum Faschismus weiterentwickelt und ein antifaschistisch-demokratisches Deutschland für die Zeit nach der Befreiung geplant. \nEine Veranstaltung von: DGB Frankfurt\, Studienkreis Deutscher Widerstand 1933-45 und VVN-BdA Frankfurt \nLink (KLICK)
URL:https://frankfurtmain.vvn-bda.de/event/arbeiterwiderstand-1933-1945-vortrag-von-ulrich-schneider/
LOCATION:DGB-Haus Frankfurt\, Wilhelm-Leuschner-Straße 69-77\, 60329 Frankfurt
END:VEVENT
END:VCALENDAR