BEGIN:VCALENDAR
VERSION:2.0
PRODID:-//Vereinigung der Verfolgten des Naziregimes - ECPv6.15.20//NONSGML v1.0//EN
CALSCALE:GREGORIAN
METHOD:PUBLISH
X-WR-CALNAME:Vereinigung der Verfolgten des Naziregimes
X-ORIGINAL-URL:https://frankfurtmain.vvn-bda.de
X-WR-CALDESC:Veranstaltungen für Vereinigung der Verfolgten des Naziregimes
REFRESH-INTERVAL;VALUE=DURATION:PT1H
X-Robots-Tag:noindex
X-PUBLISHED-TTL:PT1H
BEGIN:VTIMEZONE
TZID:Europe/Paris
BEGIN:DAYLIGHT
TZOFFSETFROM:+0100
TZOFFSETTO:+0200
TZNAME:CEST
DTSTART:20230326T010000
END:DAYLIGHT
BEGIN:STANDARD
TZOFFSETFROM:+0200
TZOFFSETTO:+0100
TZNAME:CET
DTSTART:20231029T010000
END:STANDARD
BEGIN:DAYLIGHT
TZOFFSETFROM:+0100
TZOFFSETTO:+0200
TZNAME:CEST
DTSTART:20240331T010000
END:DAYLIGHT
BEGIN:STANDARD
TZOFFSETFROM:+0200
TZOFFSETTO:+0100
TZNAME:CET
DTSTART:20241027T010000
END:STANDARD
BEGIN:DAYLIGHT
TZOFFSETFROM:+0100
TZOFFSETTO:+0200
TZNAME:CEST
DTSTART:20250330T010000
END:DAYLIGHT
BEGIN:STANDARD
TZOFFSETFROM:+0200
TZOFFSETTO:+0100
TZNAME:CET
DTSTART:20251026T010000
END:STANDARD
END:VTIMEZONE
BEGIN:VEVENT
DTSTART;TZID=Europe/Paris:20241117T190000
DTEND;TZID=Europe/Paris:20241117T210000
DTSTAMP:20260422T142639
CREATED:20241031T100019Z
LAST-MODIFIED:20241031T170750Z
UID:7695-1731870000-1731877200@frankfurtmain.vvn-bda.de
SUMMARY:Antifaschistische Filmreihe: Mama\, ich lebe (DDR 1976\, R.: Konrad Wolf\, 103 Min.)
DESCRIPTION:Vier deutsche Kriegsgefangene tauschen in der Sowjetunion ihre Uniformen\, um an der Seite der Sowjets den Krieg schneller zu beenden. Sie fahren in sowjetischer Uniform an die Front. Den Mitreisenden bleibt nicht verborgen\, dass sie Deutsche sind\, und sie werden unterschiedlich behandelt. Einige sowjetische Soldaten sehen sie als Gleiche\, andere sind unsicher. An der Front müssen sie entscheiden\, ob sie einen Einsatz hinter den deutschen Linien übernehmen. Einer bleibt zurück\, die anderen gehen in den Wald\, wo ihr Betreuer Kolja stirbt. Ein Zurückgebliebener verliebt sich in die sowjetische Funkerin Swetlana und entscheidet sich schließlich für den Einsatz. \nMit Einleitung und anschließendem Filmgespräch. Referent: H.Ch. Stoodt\nDer Eintritt ist frei.\nDie Filmreihe wird veranstaltet von: VVN-BdA Frankfurt\, A.N.P.I. Frankfurt\, Dritte Welt Haus; in Kooperation mit: Club Voltaire \nDas komplette Programm für die Reihe Winter 2024/25: https://antifaschistische-filmreihe-ffm.de/programm-winter-2024-2025/
URL:https://frankfurtmain.vvn-bda.de/event/antifaschistische-filmreihe-mama-ich-lebe-ddr-1976-r-konrad-wolf-103-min/
LOCATION:Club Voltaire\, Kleine Hochstr. 5\, 60313 Frankfurt
END:VEVENT
END:VCALENDAR