BEGIN:VCALENDAR
VERSION:2.0
PRODID:-//Vereinigung der Verfolgten des Naziregimes - ECPv6.15.20//NONSGML v1.0//EN
CALSCALE:GREGORIAN
METHOD:PUBLISH
X-ORIGINAL-URL:https://frankfurtmain.vvn-bda.de
X-WR-CALDESC:Veranstaltungen für Vereinigung der Verfolgten des Naziregimes
REFRESH-INTERVAL;VALUE=DURATION:PT1H
X-Robots-Tag:noindex
X-PUBLISHED-TTL:PT1H
BEGIN:VTIMEZONE
TZID:Europe/Paris
BEGIN:DAYLIGHT
TZOFFSETFROM:+0100
TZOFFSETTO:+0200
TZNAME:CEST
DTSTART:20230326T010000
END:DAYLIGHT
BEGIN:STANDARD
TZOFFSETFROM:+0200
TZOFFSETTO:+0100
TZNAME:CET
DTSTART:20231029T010000
END:STANDARD
BEGIN:DAYLIGHT
TZOFFSETFROM:+0100
TZOFFSETTO:+0200
TZNAME:CEST
DTSTART:20240331T010000
END:DAYLIGHT
BEGIN:STANDARD
TZOFFSETFROM:+0200
TZOFFSETTO:+0100
TZNAME:CET
DTSTART:20241027T010000
END:STANDARD
BEGIN:DAYLIGHT
TZOFFSETFROM:+0100
TZOFFSETTO:+0200
TZNAME:CEST
DTSTART:20250330T010000
END:DAYLIGHT
BEGIN:STANDARD
TZOFFSETFROM:+0200
TZOFFSETTO:+0100
TZNAME:CET
DTSTART:20251026T010000
END:STANDARD
END:VTIMEZONE
BEGIN:VEVENT
DTSTART;TZID=Europe/Paris:20241121T190000
DTEND;TZID=Europe/Paris:20241121T210000
DTSTAMP:20260422T143518
CREATED:20241002T102532Z
LAST-MODIFIED:20241002T102532Z
UID:7677-1732215600-1732222800@frankfurtmain.vvn-bda.de
SUMMARY:antifa Erzählcafé: Ist das Grundgesetz antifaschistisch?
DESCRIPTION:Vom Wortlaut her unscheinbar\, versteckt in den „Übergangsvorschriften“ des Grundgesetzes. Politische DNA unserer Verfassung oder leere Hülle? Artikel 139 GG: „Die zur ‚Befreiung des deutschen Volkes vom Nationalsozialismus und Militarismus‘ erlassenen Rechtsvorschriften werden von den Bestimmungen dieses Grundgesetzes nicht berührt“. – Die Geschichte einer kontroversen Norm.\nKeine Meinungs- und Betätigungsfreiheit für alte und neue Faschisten – was ist nach 75 Jahren bundesrepublikanischer Verfassungswirklichkeit aus dem antifaschistischen Grundprinzip geworden? Der Vortrag zieht die historischen\, politischen und juristischen Linien von der Konferenz der Alliierten in Jalta und der Potsdamer Konferenz (1945)\, über die „Entnazifizierung“\, die für beendet erklärt wurde\, bevor sie überhaupt begann\, die sog. „Befreiungsgesetze“ und deren Liquidation\, die Notstandsgesetzgebung bis zur heutigen Diskussion eines AFD-Verbots.\nIst Art. 139 GG heute politisch nutzbar? Lässt sich mit dieser Norm noch oder wieder juristisch arbeiten? Was ist von „antifaschistischen Klauseln“ in Landesverfassungen zu halten? Nur ein Bekenntnis oder mehr?\nDr. Dr. Ralf Hohmann\, geboren 1959 in Kelkheim/Taunus\, war 25 Jahre als Rechtsanwalt im Bereich der Strafverteidigung und parallel als Prüfer im ersten jurist. Staatsexamen sowie in der Anwaltsfortbildung tätig\, er schreibt seit 2019 regelmäßig für die sozialistische Wochenzeitung „Unsere Zeit“ \, die „Marxistischen Blätter“ und andere linke Medien zu rechtlichen und völkerrechtlichen Fragen. \nEine Veranstaltung der VVN-BdA Frankfurt in Kooperation mit dem Club Voltaire.\nFlyer: KLICK
URL:https://frankfurtmain.vvn-bda.de/event/antifa-erzaehlcafe-ist-das-grundgesetz-antifaschistisch/
LOCATION:Club Voltaire\, Kleine Hochstr. 5\, 60313 Frankfurt
END:VEVENT
END:VCALENDAR