BEGIN:VCALENDAR
VERSION:2.0
PRODID:-//Vereinigung der Verfolgten des Naziregimes - ECPv6.15.20//NONSGML v1.0//EN
CALSCALE:GREGORIAN
METHOD:PUBLISH
X-WR-CALNAME:Vereinigung der Verfolgten des Naziregimes
X-ORIGINAL-URL:https://frankfurtmain.vvn-bda.de
X-WR-CALDESC:Veranstaltungen für Vereinigung der Verfolgten des Naziregimes
REFRESH-INTERVAL;VALUE=DURATION:PT1H
X-Robots-Tag:noindex
X-PUBLISHED-TTL:PT1H
BEGIN:VTIMEZONE
TZID:Europe/Paris
BEGIN:DAYLIGHT
TZOFFSETFROM:+0100
TZOFFSETTO:+0200
TZNAME:CEST
DTSTART:20230326T010000
END:DAYLIGHT
BEGIN:STANDARD
TZOFFSETFROM:+0200
TZOFFSETTO:+0100
TZNAME:CET
DTSTART:20231029T010000
END:STANDARD
BEGIN:DAYLIGHT
TZOFFSETFROM:+0100
TZOFFSETTO:+0200
TZNAME:CEST
DTSTART:20240331T010000
END:DAYLIGHT
BEGIN:STANDARD
TZOFFSETFROM:+0200
TZOFFSETTO:+0100
TZNAME:CET
DTSTART:20241027T010000
END:STANDARD
BEGIN:DAYLIGHT
TZOFFSETFROM:+0100
TZOFFSETTO:+0200
TZNAME:CEST
DTSTART:20250330T010000
END:DAYLIGHT
BEGIN:STANDARD
TZOFFSETFROM:+0200
TZOFFSETTO:+0100
TZNAME:CET
DTSTART:20251026T010000
END:STANDARD
END:VTIMEZONE
BEGIN:VEVENT
DTSTART;TZID=Europe/Paris:20241122T193000
DTEND;TZID=Europe/Paris:20241122T213000
DTSTAMP:20260422T142734
CREATED:20241112T183740Z
LAST-MODIFIED:20241112T184009Z
UID:7742-1732303800-1732311000@frankfurtmain.vvn-bda.de
SUMMARY:Ein Jahr danach – schon alles vergessen? Die Correctiv-Recherche zum Geheimplan gegen Deutschland
DESCRIPTION:Vor gut einem Jahr\, am 25. November 2023\, trafen sich hochrangige AfD-Vertreter\, Neonazis und Unternehmer: sie planten die Vertreibung von Millionen Menschen aus Deutschland. Die sei – so Rene Springer seines Zeichens AfD-Bundestagabgeordneter „kein Geheimplan\, sondern ein Versprechen“.\nDieser Masterplan zur Ausweisung auch von deutschen Staatsbürgern aufgrund ihrer Ethnie zielt auf die Aufhebung zentraler Grundrechte. Durch eine angestrebte Zusammenlegung von Exekutive und Judikative soll\, wie am historischen Beispiel der Gestapo deutlich wird\, ermitteln und gleichzeitig verfolgen dürfen\, was einer Aufhebung der Gewaltenteilung der Staatsgewalt gleichkommt. Auch Überlegungen einen „Musterstaat“ in Nordafrika zu etablieren\, erinnert an die Idee der NSDAP\, vier Millionen Juden auf die Insel Madagaskar zu deportieren.\nDie Reaktionen auf die Veröffentlichung der Pläne durch das Recherchenetzwerk Correctiv waren beeindruckend. Hunderttausende gingen auf die Straße\, um sich für Demokratie und Menschenrechte einzusetzen und zu bekennen. Doch was ist von diesem Aufbruch geblieben?\nDieser Frage soll nach der szenischen Lesung mit dem Helden Theater im Gespräch mit Seda Basay-Yildiz (Rechtsanwältin\, Nebenklägerin im NSU-Prozess) nachgegangen werden. \nLink: https://frankfurtmain.vvn-bda.de/ein-jahr-danach-schon-alles-vergessen-der-geheimplan-gegen-deutschland/ \n 
URL:https://frankfurtmain.vvn-bda.de/event/ein-jahr-danach-schon-alles-vergessen/
END:VEVENT
END:VCALENDAR