BEGIN:VCALENDAR
VERSION:2.0
PRODID:-//Vereinigung der Verfolgten des Naziregimes - ECPv6.15.20//NONSGML v1.0//EN
CALSCALE:GREGORIAN
METHOD:PUBLISH
X-ORIGINAL-URL:https://frankfurtmain.vvn-bda.de
X-WR-CALDESC:Veranstaltungen für Vereinigung der Verfolgten des Naziregimes
REFRESH-INTERVAL;VALUE=DURATION:PT1H
X-Robots-Tag:noindex
X-PUBLISHED-TTL:PT1H
BEGIN:VTIMEZONE
TZID:Europe/Paris
BEGIN:DAYLIGHT
TZOFFSETFROM:+0100
TZOFFSETTO:+0200
TZNAME:CEST
DTSTART:20240331T010000
END:DAYLIGHT
BEGIN:STANDARD
TZOFFSETFROM:+0200
TZOFFSETTO:+0100
TZNAME:CET
DTSTART:20241027T010000
END:STANDARD
BEGIN:DAYLIGHT
TZOFFSETFROM:+0100
TZOFFSETTO:+0200
TZNAME:CEST
DTSTART:20250330T010000
END:DAYLIGHT
BEGIN:STANDARD
TZOFFSETFROM:+0200
TZOFFSETTO:+0100
TZNAME:CET
DTSTART:20251026T010000
END:STANDARD
BEGIN:DAYLIGHT
TZOFFSETFROM:+0100
TZOFFSETTO:+0200
TZNAME:CEST
DTSTART:20260329T010000
END:DAYLIGHT
BEGIN:STANDARD
TZOFFSETFROM:+0200
TZOFFSETTO:+0100
TZNAME:CET
DTSTART:20261025T010000
END:STANDARD
END:VTIMEZONE
BEGIN:VEVENT
DTSTART;TZID=Europe/Paris:20250116T190000
DTEND;TZID=Europe/Paris:20250116T210000
DTSTAMP:20260422T115756
CREATED:20241205T120428Z
LAST-MODIFIED:20241205T120428Z
UID:7763-1737054000-1737061200@frankfurtmain.vvn-bda.de
SUMMARY:antifa Erzählcafé: Rassistischer Anschlag in Hanau – Was ist seitdem geschehen?
DESCRIPTION:Beim Anschlag von Hanau erschoss am 19. Februar 2020 ein 43-jähriger Mann aus rassistischen und rechtsextremen Motiven an zwei Tatorten insgesamt neun Menschen mit Migrationsgeschichte. Anschließend tötete er seine Mutter und sich selbst. Die Tat löste bundesweit Diskussionen über Extremismus aus.\nBis zum heutigen Tage gibt es offene Fragen. So zum Beispiel\, warum der Notausgang am ersten Tatort in der „Arena Bar“ verschlossen und warum der Notruf in der Tatnacht nicht erreichbar war. Wegen des verschlossenen Notausgangs hat die Familie des getöteten Hamza Kurtović Strafanzeige erstattet.\nDarüber hinaus gibt es massive Kritik an der politischen Aufarbeitung und am Umgang der politisch Verantwortlichen mit den Hinterbliebenen der Getöteten.\nSerpil Temiz Unvar\, Mutter des am 19.02.2020 getöteten Ferhat Unvar und Gründerin der „Bildungsinitiative Ferhat Unvar e.V.“\, möchte dazu beitragen\, das öffentliche Bewusstsein für rassistisches Denken und Verhalten zu schärfen und so zu verhindern\, dass sich ähnliche Katastrophen wiederholen.\nSie wird uns an diesem Abend über ihre antirassistische Arbeit erzählen. \nEine Veranstaltung der VVN-BdA Frankfurt in Kooperation mit dem Club Voltaire.
URL:https://frankfurtmain.vvn-bda.de/event/antifa-erzaehlcafe-rassistischer-anschlag-in-hanau-was-ist-seitdem-geschehen/
LOCATION:Club Voltaire\, Kleine Hochstr. 5\, 60313 Frankfurt
END:VEVENT
END:VCALENDAR