BEGIN:VCALENDAR
VERSION:2.0
PRODID:-//Vereinigung der Verfolgten des Naziregimes - ECPv6.15.20//NONSGML v1.0//EN
CALSCALE:GREGORIAN
METHOD:PUBLISH
X-ORIGINAL-URL:https://frankfurtmain.vvn-bda.de
X-WR-CALDESC:Veranstaltungen für Vereinigung der Verfolgten des Naziregimes
REFRESH-INTERVAL;VALUE=DURATION:PT1H
X-Robots-Tag:noindex
X-PUBLISHED-TTL:PT1H
BEGIN:VTIMEZONE
TZID:Europe/Paris
BEGIN:DAYLIGHT
TZOFFSETFROM:+0100
TZOFFSETTO:+0200
TZNAME:CEST
DTSTART:20240331T010000
END:DAYLIGHT
BEGIN:STANDARD
TZOFFSETFROM:+0200
TZOFFSETTO:+0100
TZNAME:CET
DTSTART:20241027T010000
END:STANDARD
BEGIN:DAYLIGHT
TZOFFSETFROM:+0100
TZOFFSETTO:+0200
TZNAME:CEST
DTSTART:20250330T010000
END:DAYLIGHT
BEGIN:STANDARD
TZOFFSETFROM:+0200
TZOFFSETTO:+0100
TZNAME:CET
DTSTART:20251026T010000
END:STANDARD
BEGIN:DAYLIGHT
TZOFFSETFROM:+0100
TZOFFSETTO:+0200
TZNAME:CEST
DTSTART:20260329T010000
END:DAYLIGHT
BEGIN:STANDARD
TZOFFSETFROM:+0200
TZOFFSETTO:+0100
TZNAME:CET
DTSTART:20261025T010000
END:STANDARD
END:VTIMEZONE
BEGIN:VEVENT
DTSTART;TZID=Europe/Paris:20250206T190000
DTEND;TZID=Europe/Paris:20250206T210000
DTSTAMP:20260422T104039
CREATED:20250123T134951Z
LAST-MODIFIED:20250123T134951Z
UID:7845-1738868400-1738875600@frankfurtmain.vvn-bda.de
SUMMARY:Der Kampf um die Erinnerung – Lena Sarah Carlebach spricht über Gedenkarbeit heute
DESCRIPTION:Vor 80 Jahren\, am 11. April 1945\, erhoben sich die Häftlinge des Konzentrationslagers Buchenwald gegen ihre Unterdrücker. Sie entwaffneten die SS-Wachen\, wenig später erreichten US-Truppen die Baracken. Einer der Gefangenen\, die am Aufstand teilnahmen\, war der Kommunist Emil Carlebach\, der bis dahin elf Jahre Lager und Haft überlebt hatte.\nSeine Enkelin Lena Sarah Carlebach engagiert sich im Studienkreis Deutscher Widerstand und in vielen anderen Formen der Erinnerungsarbeit. Doch wie kann erinnert werden\, wenn die letzten Zeitzeugen gestorben sind? Was lässt sich lernen für heute aus dem Leben von Emil Carlebach\, der 1945 einer der Gründer der „Frankfurter Rundschau“ war und 1947 die „Vereinigung der Verfolgten des Naziregimes (VVN)“ mit ins Leben rief?\nÜber diese und andere Fragen spricht der Autor Claus-Jürgen Göpfert mit Lena Sarah Carlebach. Sie hat sich in ihrer Psychologie-Masterarbeit an der Goethe-Universität Frankfurt mit dem Thema „Von Generation zu Generation – Welche Auswirkungen haben Verfolgungserfahrungen im Nationalsozialismus auf die nächste Generation?“ befasst. \nVeranstalter: Club Voltaire\, Rosa-Luxemburg-Stiftung Hessen und VVN-BdA Frankfurt\nLink: https://www.club-voltaire.de/veranstaltungen/
URL:https://frankfurtmain.vvn-bda.de/event/der-kampf-um-die-erinnerung-lena-sarah-carlebach-spricht-ueber-gedenkarbeit-heute/
LOCATION:Club Voltaire\, Kleine Hochstr. 5\, 60313 Frankfurt
END:VEVENT
END:VCALENDAR