BEGIN:VCALENDAR
VERSION:2.0
PRODID:-//Vereinigung der Verfolgten des Naziregimes - ECPv6.15.20//NONSGML v1.0//EN
CALSCALE:GREGORIAN
METHOD:PUBLISH
X-WR-CALNAME:Vereinigung der Verfolgten des Naziregimes
X-ORIGINAL-URL:https://frankfurtmain.vvn-bda.de
X-WR-CALDESC:Veranstaltungen für Vereinigung der Verfolgten des Naziregimes
REFRESH-INTERVAL;VALUE=DURATION:PT1H
X-Robots-Tag:noindex
X-PUBLISHED-TTL:PT1H
BEGIN:VTIMEZONE
TZID:Europe/Paris
BEGIN:DAYLIGHT
TZOFFSETFROM:+0100
TZOFFSETTO:+0200
TZNAME:CEST
DTSTART:20240331T010000
END:DAYLIGHT
BEGIN:STANDARD
TZOFFSETFROM:+0200
TZOFFSETTO:+0100
TZNAME:CET
DTSTART:20241027T010000
END:STANDARD
BEGIN:DAYLIGHT
TZOFFSETFROM:+0100
TZOFFSETTO:+0200
TZNAME:CEST
DTSTART:20250330T010000
END:DAYLIGHT
BEGIN:STANDARD
TZOFFSETFROM:+0200
TZOFFSETTO:+0100
TZNAME:CET
DTSTART:20251026T010000
END:STANDARD
BEGIN:DAYLIGHT
TZOFFSETFROM:+0100
TZOFFSETTO:+0200
TZNAME:CEST
DTSTART:20260329T010000
END:DAYLIGHT
BEGIN:STANDARD
TZOFFSETFROM:+0200
TZOFFSETTO:+0100
TZNAME:CET
DTSTART:20261025T010000
END:STANDARD
END:VTIMEZONE
BEGIN:VEVENT
DTSTART;TZID=Europe/Paris:20250213T190000
DTEND;TZID=Europe/Paris:20250213T210000
DTSTAMP:20260422T103831
CREATED:20241227T152409Z
LAST-MODIFIED:20241227T152409Z
UID:7810-1739473200-1739480400@frankfurtmain.vvn-bda.de
SUMMARY:Antifaschistische Filmreihe: Die Eiserne Mauer – The Iron Wall (Palästina 2006\, R: M. Alatar\, 53 Min.)
DESCRIPTION:Der Regisseur Mohammed Alatar schildert aus palästinensischer Sicht die Entwicklungsgeschichte des israelischen Siedlungsprogramms in den besetzten Gebieten und die Auswirkungen der „Trennungsmauer“. Wenngleich von der israelischen Regierung Sicherheits-Zaun genannt\, hat sie weniger mit Sicherheit zu tun\, als vielmehr damit\, die Siedlungen und unrechtmäßige Landnahme als unverrückbare Fakten zu etablieren. Im Film kommen Israelis und Palästinenser zu Wort\, und Zusammenhänge werden in ihrer historischen Dimension deutlich.\nDer Eintritt ist frei. Mit Einleitung und anschließendem Filmgespräch mit H.Ch. Stoodt.\nDie Filmreihe wird veranstaltet von: VVN-BdA Frankfurt\, A.N.P.I. Frankfurt\, Dritte Welt Haus; in Kooperation mit: Elferclub\nDas komplette Programm für die Veranstaltungsreihe im Winter 2024/25: KLICK
URL:https://frankfurtmain.vvn-bda.de/event/antifaschistische-filmreihe-die-eiserne-mauer-the-iron-wall-palaestina-2006-r-m-alatar-53-min/
LOCATION:Elfer Music Club\, Kleine Rittergasse 14-20\, 60594 Frankfurt
END:VEVENT
END:VCALENDAR