BEGIN:VCALENDAR
VERSION:2.0
PRODID:-//Vereinigung der Verfolgten des Naziregimes - ECPv6.15.20//NONSGML v1.0//EN
CALSCALE:GREGORIAN
METHOD:PUBLISH
X-ORIGINAL-URL:https://frankfurtmain.vvn-bda.de
X-WR-CALDESC:Veranstaltungen für Vereinigung der Verfolgten des Naziregimes
REFRESH-INTERVAL;VALUE=DURATION:PT1H
X-Robots-Tag:noindex
X-PUBLISHED-TTL:PT1H
BEGIN:VTIMEZONE
TZID:Europe/Paris
BEGIN:DAYLIGHT
TZOFFSETFROM:+0100
TZOFFSETTO:+0200
TZNAME:CEST
DTSTART:20240331T010000
END:DAYLIGHT
BEGIN:STANDARD
TZOFFSETFROM:+0200
TZOFFSETTO:+0100
TZNAME:CET
DTSTART:20241027T010000
END:STANDARD
BEGIN:DAYLIGHT
TZOFFSETFROM:+0100
TZOFFSETTO:+0200
TZNAME:CEST
DTSTART:20250330T010000
END:DAYLIGHT
BEGIN:STANDARD
TZOFFSETFROM:+0200
TZOFFSETTO:+0100
TZNAME:CET
DTSTART:20251026T010000
END:STANDARD
BEGIN:DAYLIGHT
TZOFFSETFROM:+0100
TZOFFSETTO:+0200
TZNAME:CEST
DTSTART:20260329T010000
END:DAYLIGHT
BEGIN:STANDARD
TZOFFSETFROM:+0200
TZOFFSETTO:+0100
TZNAME:CET
DTSTART:20261025T010000
END:STANDARD
END:VTIMEZONE
BEGIN:VEVENT
DTSTART;TZID=Europe/Paris:20250223T130000
DTEND;TZID=Europe/Paris:20250223T150000
DTSTAMP:20260422T104038
CREATED:20250217T153245Z
LAST-MODIFIED:20250217T153245Z
UID:7903-1740315600-1740322800@frankfurtmain.vvn-bda.de
SUMMARY:Blanka Zmigrod – Unvergessen!
DESCRIPTION:In der Nacht vom 22. auf den 23. Februar 1992 wurde Blanka Zmigrod\, eine Holocaust-Überlebende\, auf dem Heimweg zur ihrer Wohnung im Frankfurter Westend von einem schwedischen Neonazi erschossen. Am Tag der Bundestagswahl rufen wir dazu auf\, ihrer zu gedenken.\nNeonazistische Morde werden seit jeher in Deutschland bagatellisiert und Betroffene dem Vergessen überlassen – von NSU über Halle und Hanau bis zu dem Mord an Walter Lübke. Die Erinnerung muss meist erkämpft werden. Das zeigt auf besonders schockierende Weise das jahrelange Fehlen eines Gedenkens an Blanka Zmigrod.\nMit der Normalität einer Partei im Bundestag\, die das rechte mörderische Potential in ihren Reihen fördert\, bekommen die jahrelangen Losungen zum Gedenken an Opfer neonazistischer Gewalt schreckliche Aktualität. Die Normalisierung von völkisch-nationalistischer Ideologie\, offenem Rassismus sowie Teile des immer offener auftretenden Antisemitismus sind das Resultat des stattfindenden Rechtsrucks.\nSeit dem Prozess gegen den Täter 2017 forderten Antifaschist*innen die Umbenennung des Kettenhofwegs in Blanka-Zmigrod-Straße\, sowie die Aufnahme des Mordfalls in die Statistik zu rechter Gewalt. Auf Bestreben Ruben Gerczikows wurde im Jahr 2022 eine Gedenktafel an der Kreuzung installiert\, die mit einem Zitat Zmigrods an diese erinnert: „Meine Genugtuung\, für das\, was mir die Nazis angetan haben\, ist zu überleben und so gut und so lange wie möglich zu leben.“ Blanka Zmigrod unvergessen! \nLink: http://initiative-siebter-oktober.org/blanka-zmigrod-unvergessen/
URL:https://frankfurtmain.vvn-bda.de/event/blanka-zmigrod-unvergessen/
LOCATION:Kettenhofweg/Ecke Niedenau\, 60325 Frankfurt\, Kettenhofweg/Ecke Niedenau\, 60325 Frankfurt
END:VEVENT
BEGIN:VEVENT
DTSTART;TZID=Europe/Paris:20250223T170000
DTEND;TZID=Europe/Paris:20250223T230000
DTSTAMP:20260422T104038
CREATED:20250217T163947Z
LAST-MODIFIED:20250217T163947Z
UID:7914-1740330000-1740351600@frankfurtmain.vvn-bda.de
SUMMARY:Public Screaming – Die andere Wahlparty
DESCRIPTION:Wie fühlst du dich beim Gedanken an die Wahlergebnisse am 23.02.? \nSchon jetzt ist klar: Das Ergebnis wird herausfordernd für alle\, die sich in Deutschland für eine inklusive und plurale Demokratie einsetzen. Am Wahlabend wird es reichlich Gründe für Wut\, Fassungslosigkeit oder Trauer geben. Das KoalaKollektiv lädt dazu ein\, mit diesen Gefühlen nicht alleine zu bleiben: Das Public Screaming gibt Raum für Emotionen und bietet neue Handlungsperspektiven. Und es wird auch gefeiert – trotz allem.\nIn fünf Räumen auf zwei Etagen verschmelzen interaktive Installationen und Party. Mit einem DJ-Set von Jaraya und Febi (GGVybe). \nSonntag 23.2.25\, 17-23 Uhr\, Mousonturm \n– Pay as you can – \nDas Public Screaming findet im Rahmen von heimaten statt und ist eine Initiative zur Bundestagswahl des Haus der Kulturen der Welt (HKW)\, Berlin\, kuratiert von Ibou Diop und Max Czollek.
URL:https://frankfurtmain.vvn-bda.de/event/public-screaming-die-andere-wahlparty/
LOCATION:Mousonturm\, Waldschmidtstraße 4\, 60316 Frankfurt
END:VEVENT
END:VCALENDAR