BEGIN:VCALENDAR
VERSION:2.0
PRODID:-//Vereinigung der Verfolgten des Naziregimes - ECPv6.15.20//NONSGML v1.0//EN
CALSCALE:GREGORIAN
METHOD:PUBLISH
X-ORIGINAL-URL:https://frankfurtmain.vvn-bda.de
X-WR-CALDESC:Veranstaltungen für Vereinigung der Verfolgten des Naziregimes
REFRESH-INTERVAL;VALUE=DURATION:PT1H
X-Robots-Tag:noindex
X-PUBLISHED-TTL:PT1H
BEGIN:VTIMEZONE
TZID:Europe/Paris
BEGIN:DAYLIGHT
TZOFFSETFROM:+0100
TZOFFSETTO:+0200
TZNAME:CEST
DTSTART:20240331T010000
END:DAYLIGHT
BEGIN:STANDARD
TZOFFSETFROM:+0200
TZOFFSETTO:+0100
TZNAME:CET
DTSTART:20241027T010000
END:STANDARD
BEGIN:DAYLIGHT
TZOFFSETFROM:+0100
TZOFFSETTO:+0200
TZNAME:CEST
DTSTART:20250330T010000
END:DAYLIGHT
BEGIN:STANDARD
TZOFFSETFROM:+0200
TZOFFSETTO:+0100
TZNAME:CET
DTSTART:20251026T010000
END:STANDARD
BEGIN:DAYLIGHT
TZOFFSETFROM:+0100
TZOFFSETTO:+0200
TZNAME:CEST
DTSTART:20260329T010000
END:DAYLIGHT
BEGIN:STANDARD
TZOFFSETFROM:+0200
TZOFFSETTO:+0100
TZNAME:CET
DTSTART:20261025T010000
END:STANDARD
END:VTIMEZONE
BEGIN:VEVENT
DTSTART;TZID=Europe/Paris:20250316T190000
DTEND;TZID=Europe/Paris:20250316T210000
DTSTAMP:20260422T091834
CREATED:20250306T174306Z
LAST-MODIFIED:20250306T174306Z
UID:7957-1742151600-1742158800@frankfurtmain.vvn-bda.de
SUMMARY:Antifaschistische Filmreihe: Die Frauen der Rosenstraße (BRD 2003\, R: M. v. Trotta\, 135 Min.)
DESCRIPTION:Eine wahre Begebenheit\, die Margarethe von Trotta in ihrem Film aufgreift. Erst seit ca. zehn Jahren nehmen auch die Historiker zur Kenntnis: den Aufstand der „arischen“ Frauen jüdischer Männer in der Berliner Rosenstraße\, mit dem die meisten dank großer Solidarität die Deportation ihrer Männer verhindern oder gar rückgängig machen konnten. Die Suche nach der eigenen Familiengeschichte verbindet Gegenwart und Vergangenheit in einer Rahmenhandlung. Die zentrale These des Films – Widerstand gegen das faschistische Regime war möglich\, sofern sich genügend Menschen solidarisch verhielten\, verpufft ein wenig. \nDer Eintritt ist frei. Mit Einleitung und anschließendem Filmgespräch.\nDie Filmreihe wird veranstaltet von: VVN-BdA Frankfurt\, A.N.P.I. Frankfurt\, Dritte Welt Haus; in Kooperation mit: Club Voltaire\nDas komplette Programm für die Veranstaltungsreihe im Winter 2024/25: KLICK
URL:https://frankfurtmain.vvn-bda.de/event/antifaschistische-filmreihe-die-frauen-der-rosenstrasse-brd-2003-r-m-v-trotta-135-min/
LOCATION:Club Voltaire\, Kleine Hochstr. 5\, 60313 Frankfurt
END:VEVENT
END:VCALENDAR