BEGIN:VCALENDAR
VERSION:2.0
PRODID:-//Vereinigung der Verfolgten des Naziregimes - ECPv6.15.20//NONSGML v1.0//EN
CALSCALE:GREGORIAN
METHOD:PUBLISH
X-WR-CALNAME:Vereinigung der Verfolgten des Naziregimes
X-ORIGINAL-URL:https://frankfurtmain.vvn-bda.de
X-WR-CALDESC:Veranstaltungen für Vereinigung der Verfolgten des Naziregimes
REFRESH-INTERVAL;VALUE=DURATION:PT1H
X-Robots-Tag:noindex
X-PUBLISHED-TTL:PT1H
BEGIN:VTIMEZONE
TZID:Europe/Paris
BEGIN:DAYLIGHT
TZOFFSETFROM:+0100
TZOFFSETTO:+0200
TZNAME:CEST
DTSTART:20240331T010000
END:DAYLIGHT
BEGIN:STANDARD
TZOFFSETFROM:+0200
TZOFFSETTO:+0100
TZNAME:CET
DTSTART:20241027T010000
END:STANDARD
BEGIN:DAYLIGHT
TZOFFSETFROM:+0100
TZOFFSETTO:+0200
TZNAME:CEST
DTSTART:20250330T010000
END:DAYLIGHT
BEGIN:STANDARD
TZOFFSETFROM:+0200
TZOFFSETTO:+0100
TZNAME:CET
DTSTART:20251026T010000
END:STANDARD
BEGIN:DAYLIGHT
TZOFFSETFROM:+0100
TZOFFSETTO:+0200
TZNAME:CEST
DTSTART:20260329T010000
END:DAYLIGHT
BEGIN:STANDARD
TZOFFSETFROM:+0200
TZOFFSETTO:+0100
TZNAME:CET
DTSTART:20261025T010000
END:STANDARD
END:VTIMEZONE
BEGIN:VEVENT
DTSTART;TZID=Europe/Paris:20250330T190000
DTEND;TZID=Europe/Paris:20250330T210000
DTSTAMP:20260422T091537
CREATED:20250319T165820Z
LAST-MODIFIED:20250319T165820Z
UID:8028-1743361200-1743368400@frankfurtmain.vvn-bda.de
SUMMARY:Antifaschistische Filmreihe: Les Jours Heureux – Die glücklichen Tage
DESCRIPTION:Wir waren schon einmal weiter im Kampf gegen rechts. 1943 beschloss der „Conceil National de la Résistance“ (CNR\, Nationalrat des Widerstands) in Frankreich ein Programm\, um Frankreich von der faschistischen Okkupation zu befreien. Es ging weit über die Befreiung hinaus und umschloss auch Vorschläge zur sozialen Neugestaltung: Verstaatlichung der Energieversorgung\, des Rechts auf Bildung und ein Leben in Würde. Unter widrigsten Bedingungen wurde ein breites Bündnis gebildet: Demokraten und Sozialisten und sogar nationalkonservative Republikaner beschlossen das Programm. Bis heute ist es ein wichtiger Bezugspunkt politischen Denkens in Frankreich.\nWir wollen erörtern\, was wir aus dem Kampf der Résistance lernen\, wie eine kluge antifaschistische Bündnispolitik funktionieren kann und welche Forderungen ein politisches Zukunftsprogramm heute beinhalten müsste. \nDer Eintritt ist frei. Filmgespräch mit: Die Linke.SDS\nDie Filmreihe wird veranstaltet von: VVN-BdA Frankfurt\, A.N.P.I. Frankfurt\, Dritte Welt Haus; in Kooperation mit: Club Voltaire\nDas komplette Programm für die Veranstaltungsreihe im Winter 2024/25: https://antifaschistische-filmreihe-ffm.de/programm-winter-2024-2025/
URL:https://frankfurtmain.vvn-bda.de/event/antifaschistische-filmreihe-les-jours-heureux-die-gluecklichen-tage/
LOCATION:Club Voltaire\, Kleine Hochstr. 5\, 60313 Frankfurt
END:VEVENT
END:VCALENDAR