BEGIN:VCALENDAR
VERSION:2.0
PRODID:-//Vereinigung der Verfolgten des Naziregimes - ECPv6.15.20//NONSGML v1.0//EN
CALSCALE:GREGORIAN
METHOD:PUBLISH
X-ORIGINAL-URL:https://frankfurtmain.vvn-bda.de
X-WR-CALDESC:Veranstaltungen für Vereinigung der Verfolgten des Naziregimes
REFRESH-INTERVAL;VALUE=DURATION:PT1H
X-Robots-Tag:noindex
X-PUBLISHED-TTL:PT1H
BEGIN:VTIMEZONE
TZID:Europe/Paris
BEGIN:DAYLIGHT
TZOFFSETFROM:+0100
TZOFFSETTO:+0200
TZNAME:CEST
DTSTART:20240331T010000
END:DAYLIGHT
BEGIN:STANDARD
TZOFFSETFROM:+0200
TZOFFSETTO:+0100
TZNAME:CET
DTSTART:20241027T010000
END:STANDARD
BEGIN:DAYLIGHT
TZOFFSETFROM:+0100
TZOFFSETTO:+0200
TZNAME:CEST
DTSTART:20250330T010000
END:DAYLIGHT
BEGIN:STANDARD
TZOFFSETFROM:+0200
TZOFFSETTO:+0100
TZNAME:CET
DTSTART:20251026T010000
END:STANDARD
BEGIN:DAYLIGHT
TZOFFSETFROM:+0100
TZOFFSETTO:+0200
TZNAME:CEST
DTSTART:20260329T010000
END:DAYLIGHT
BEGIN:STANDARD
TZOFFSETFROM:+0200
TZOFFSETTO:+0100
TZNAME:CET
DTSTART:20261025T010000
END:STANDARD
END:VTIMEZONE
BEGIN:VEVENT
DTSTART;TZID=Europe/Paris:20250406T090000
DTEND;TZID=Europe/Paris:20250406T200000
DTSTAMP:20260422T075840
CREATED:20250311T142835Z
LAST-MODIFIED:20250405T131142Z
UID:7983-1743930000-1743969600@frankfurtmain.vvn-bda.de
SUMMARY:Gedenkfahrt nach Buchenwald
DESCRIPTION:Kurzfristig sind Plätze frei geworden. Bitte heute noch anmelden: frankfurt@vvn-bda.de\nWir fahren mit Bussen zur Gedenkstätte Buchenwald\, um dort an den Gedenkfeierlichkeiten anlässlich des 80. Jahrestags der Selbstbefreiung des KZ Buchenwald teilzunehmen. Wir werden gegen 12 Uhr in der Gedenkstätte eintreffen. Zunächst besteht die Möglichkeit der eigenständigen Erkundung der Gedenkstätte. Ab 13 Uhr empfehlen wir die Teilnahme am „Weg durch Buchenwald“. Um 15 Uhr nehmen wir an der Kundgebung des Internationalen Komitees Buchenwald-Dora und Kommandos (IKBD) auf dem ehemaligen Appellplatz teil. Gegen 17 Uhr fahren wir zurück nach Frankfurt am Main\, Ankunft gegen 20 Uhr\, Gewerkschaftshaus.\nDie Teilnahme ist kostenlos\, eine Spende ist erwünscht (Sammlung während der Busfahrt).\nEine Anmeldung ist erforderlich per E-Mail an frankfurt@vvn-bda.de \nProgrammangebote am Sonntag\, den 6. April 2025 in der Gedenkstätte Buchenwald:\n12:00 Uhr\, Kinosaal der Gedenkstätte: Gesprächsmöglichkeiten mit Nachkommen\n12:30 Uhr\, Mahnmal (Glockenturm): Kundgebung der Jugend\n13:30 Uhr\, Appellplatz: Ein Weg durch Buchenwald zum 80. Jahrestag der Befreiung mit\nbegleitender Outdoor-Ausstellung „Befreiung – und dann?“\n15:00 Uhr\, Appellplatz: Kundgebung des IKBD zum 80. Jahrestags der Selbstbefreiung mit\nKranzniederlegung \nVeranstaltet vom Deutschen Gewerkschaftsbund (DGB) Frankfurt a.M.\, dem Förderverein Fritz Bauer Institut und der Vereinigung der Verfolgten des Naziregimes – Bund der AntifaschistInnen (VVN-BdA)\, Frankfurt a.M.
URL:https://frankfurtmain.vvn-bda.de/event/gedenkfahrt-nach-buchenwald-2/
LOCATION:DGB-Haus Frankfurt\, Wilhelm-Leuschner-Straße 69-77\, 60329 Frankfurt
END:VEVENT
END:VCALENDAR