BEGIN:VCALENDAR
VERSION:2.0
PRODID:-//Vereinigung der Verfolgten des Naziregimes - ECPv6.15.20//NONSGML v1.0//EN
CALSCALE:GREGORIAN
METHOD:PUBLISH
X-WR-CALNAME:Vereinigung der Verfolgten des Naziregimes
X-ORIGINAL-URL:https://frankfurtmain.vvn-bda.de
X-WR-CALDESC:Veranstaltungen für Vereinigung der Verfolgten des Naziregimes
REFRESH-INTERVAL;VALUE=DURATION:PT1H
X-Robots-Tag:noindex
X-PUBLISHED-TTL:PT1H
BEGIN:VTIMEZONE
TZID:Europe/Paris
BEGIN:DAYLIGHT
TZOFFSETFROM:+0100
TZOFFSETTO:+0200
TZNAME:CEST
DTSTART:20240331T010000
END:DAYLIGHT
BEGIN:STANDARD
TZOFFSETFROM:+0200
TZOFFSETTO:+0100
TZNAME:CET
DTSTART:20241027T010000
END:STANDARD
BEGIN:DAYLIGHT
TZOFFSETFROM:+0100
TZOFFSETTO:+0200
TZNAME:CEST
DTSTART:20250330T010000
END:DAYLIGHT
BEGIN:STANDARD
TZOFFSETFROM:+0200
TZOFFSETTO:+0100
TZNAME:CET
DTSTART:20251026T010000
END:STANDARD
BEGIN:DAYLIGHT
TZOFFSETFROM:+0100
TZOFFSETTO:+0200
TZNAME:CEST
DTSTART:20260329T010000
END:DAYLIGHT
BEGIN:STANDARD
TZOFFSETFROM:+0200
TZOFFSETTO:+0100
TZNAME:CET
DTSTART:20261025T010000
END:STANDARD
END:VTIMEZONE
BEGIN:VEVENT
DTSTART;TZID=Europe/Paris:20250413T120000
DTEND;TZID=Europe/Paris:20250413T143000
DTSTAMP:20260422T075816
CREATED:20250303T180426Z
LAST-MODIFIED:20250303T180426Z
UID:7950-1744545600-1744554600@frankfurtmain.vvn-bda.de
SUMMARY:Internationaler Treff von Nachkommen Verfolgter des Faschismus
DESCRIPTION:Bei den Treffen von Nachkommen Verfolgter des Faschismus geht es um den Austausch über die eigenen familiären Verfolgungsgeschichten und um gegenseitige Unterstützung beim Recherchieren und Aufschreiben. Und es geht darum\, was die persönlichen Geschichten für uns bedeuten und wie wir uns vor diesem Hintergrund in politische Auseinandersetzungen einbringen. Wir freuen uns über weitere Menschen\, die dazukommen. \nIm Mittelpunkt des Treffens im April wird die Familiengeschichte von Sandra Polom stehen. Ihre Großeltern stammten beide aus Polen\, wurden von den Nazis in Konzentrationslager verschleppt und lernten sich nach der Befreiung in Schweden kennen. Als die sogenannten „Effekten“\, also der Schmuck von Sandras Großmutter vor Jahren wieder auftauchte\, begann sie mit der Recherche.
URL:https://frankfurtmain.vvn-bda.de/event/internationaler-treff-von-nachkommen-verfolgter-des-faschismus-5/
LOCATION:Brotfabrik\, Bachmannstraße 2-4\, 60488 Frankfurt
END:VEVENT
END:VCALENDAR