BEGIN:VCALENDAR
VERSION:2.0
PRODID:-//Vereinigung der Verfolgten des Naziregimes - ECPv6.15.20//NONSGML v1.0//EN
CALSCALE:GREGORIAN
METHOD:PUBLISH
X-ORIGINAL-URL:https://frankfurtmain.vvn-bda.de
X-WR-CALDESC:Veranstaltungen für Vereinigung der Verfolgten des Naziregimes
REFRESH-INTERVAL;VALUE=DURATION:PT1H
X-Robots-Tag:noindex
X-PUBLISHED-TTL:PT1H
BEGIN:VTIMEZONE
TZID:Europe/Paris
BEGIN:DAYLIGHT
TZOFFSETFROM:+0100
TZOFFSETTO:+0200
TZNAME:CEST
DTSTART:20240331T010000
END:DAYLIGHT
BEGIN:STANDARD
TZOFFSETFROM:+0200
TZOFFSETTO:+0100
TZNAME:CET
DTSTART:20241027T010000
END:STANDARD
BEGIN:DAYLIGHT
TZOFFSETFROM:+0100
TZOFFSETTO:+0200
TZNAME:CEST
DTSTART:20250330T010000
END:DAYLIGHT
BEGIN:STANDARD
TZOFFSETFROM:+0200
TZOFFSETTO:+0100
TZNAME:CET
DTSTART:20251026T010000
END:STANDARD
BEGIN:DAYLIGHT
TZOFFSETFROM:+0100
TZOFFSETTO:+0200
TZNAME:CEST
DTSTART:20260329T010000
END:DAYLIGHT
BEGIN:STANDARD
TZOFFSETFROM:+0200
TZOFFSETTO:+0100
TZNAME:CET
DTSTART:20261025T010000
END:STANDARD
END:VTIMEZONE
BEGIN:VEVENT
DTSTART;TZID=Europe/Paris:20250424T190000
DTEND;TZID=Europe/Paris:20250424T210000
DTSTAMP:20260422T075839
CREATED:20250319T170005Z
LAST-MODIFIED:20250319T170005Z
UID:8030-1745521200-1745528400@frankfurtmain.vvn-bda.de
SUMMARY:Antifaschistische Filmreihe: „Blut muss fließen“ – Undercover unter Nazis
DESCRIPTION:Nach neun Jahren hat Thomas Kuban fünfzig Undercover-Drehs hinter sich\, auch jenseits deutscher Grenzen. Ein Lied begegnet ihm immer wieder: „Blut muss fließen knüppelhageldick\, wir scheissen auf die Freiheit dieser Judenrepublik…“. Hochbrisant und einzigartig ist das Material\, das er unter extremem persönlichem Risiko mit versteckter Kamera zusammengetragen hat. Es dokumentiert hautnah\, wie junge Leute mit Rechtsrock geködert und radikalisiert werden. Mit Filmemacher Peter Ohlendorf reist er noch einmal zurück an Orte\, an denen er undercover gedreht hat. Im Fokus steht dabei die Frage\, die er auch auf der politischen Ebene zu klären versucht: Wie ist es möglich\, dass auf der rechtsextremen Partymeile über alle Grenzen hinweg gefeiert werden kann? \nDer Eintritt ist frei. Filmgespräch mit Regisseur Peter Ohlendorf.\nDie Filmreihe wird veranstaltet von: VVN-BdA Frankfurt\, A.N.P.I. Frankfurt\, Dritte Welt Haus; in Kooperation mit: Elferclub\nDas komplette Programm für die Veranstaltungsreihe im Winter 2024/25: https://antifaschistische-filmreihe-ffm.de/programm-winter-2024-2025/
URL:https://frankfurtmain.vvn-bda.de/event/antifaschistische-filmreihe-blut-muss-fliessen-undercover-unter-nazis/
LOCATION:Elfer Music Club\, Kleine Rittergasse 14-20\, 60594 Frankfurt
END:VEVENT
END:VCALENDAR