BEGIN:VCALENDAR
VERSION:2.0
PRODID:-//Vereinigung der Verfolgten des Naziregimes - ECPv6.15.20//NONSGML v1.0//EN
CALSCALE:GREGORIAN
METHOD:PUBLISH
X-WR-CALNAME:Vereinigung der Verfolgten des Naziregimes
X-ORIGINAL-URL:https://frankfurtmain.vvn-bda.de
X-WR-CALDESC:Veranstaltungen für Vereinigung der Verfolgten des Naziregimes
REFRESH-INTERVAL;VALUE=DURATION:PT1H
X-Robots-Tag:noindex
X-PUBLISHED-TTL:PT1H
BEGIN:VTIMEZONE
TZID:Europe/Paris
BEGIN:DAYLIGHT
TZOFFSETFROM:+0100
TZOFFSETTO:+0200
TZNAME:CEST
DTSTART:20240331T010000
END:DAYLIGHT
BEGIN:STANDARD
TZOFFSETFROM:+0200
TZOFFSETTO:+0100
TZNAME:CET
DTSTART:20241027T010000
END:STANDARD
BEGIN:DAYLIGHT
TZOFFSETFROM:+0100
TZOFFSETTO:+0200
TZNAME:CEST
DTSTART:20250330T010000
END:DAYLIGHT
BEGIN:STANDARD
TZOFFSETFROM:+0200
TZOFFSETTO:+0100
TZNAME:CET
DTSTART:20251026T010000
END:STANDARD
BEGIN:DAYLIGHT
TZOFFSETFROM:+0100
TZOFFSETTO:+0200
TZNAME:CEST
DTSTART:20260329T010000
END:DAYLIGHT
BEGIN:STANDARD
TZOFFSETFROM:+0200
TZOFFSETTO:+0100
TZNAME:CET
DTSTART:20261025T010000
END:STANDARD
END:VTIMEZONE
BEGIN:VEVENT
DTSTART;TZID=Europe/Paris:20250426T120000
DTEND;TZID=Europe/Paris:20250426T160000
DTSTAMP:20260422T075808
CREATED:20250422T145531Z
LAST-MODIFIED:20250425T092933Z
UID:8195-1745668800-1745683200@frankfurtmain.vvn-bda.de
SUMMARY:Demo und Kundgebung gegen Rechts
DESCRIPTION:Bereits am 22.03. zogen in Frankfurt ca. 400 Nazis\, Schlägertypen und aus der Querdenkenszene stammende Menschen mit Deutschlandfahnen von der Messe aus los\, zeigten den rassistischen White Power Gruß und grölten „hier marschiert der nationale Widerstand“.  2 Wochen später am 05.04. waren es noch 50 Menschen aus dieser Szene. An beiden Tagen wurden sie von Antifaschist*innen durch Blockaden auf ihren Märschen von der Messe Richtung Innenstadt gestoppt bzw. durch Proteste begleitet. \nAm 26.04. wollen es die extrem Rechten wieder versuchen\, auch diesmal werden mehrere hundert Menschen aus der rechten Szene erwartet. In den Mobilisierungsmaterialien für ihre Demos listen sie Forderungen auf\, mit dem sie Anschluss an eine bürgerliche Mitte suchen. \nIn Wahrheit geht es ihnen jedoch um die Ausgrenzung von Menschen\, welche anders aussehen\, ihre eigene Religion ausüben\, eine andere Meinung haben oder durch ihre Lebensweise nicht in das Bild des deutschen Wutbürgertums passen. \n  \nIhre Hetze darf nicht unkommentiert bleiben und sie sollen nicht ungestört durch Frankfurt marschieren können. Deshalb kommt alle und protestiert gegen ihre Aufmärsche in Frankfurt. \nBisher angemeldete Gegenkundgebungen am 26.04.2025: \nFriedrich-Ebert-Anlage (Messe): 12.00 Uhr \nHauptwache: 14.00 Uhr \nPaulsplatz: 15.00 Uhr
URL:https://frankfurtmain.vvn-bda.de/event/demo-und-kundgebung-gegen-rechts/
END:VEVENT
END:VCALENDAR