BEGIN:VCALENDAR
VERSION:2.0
PRODID:-//Vereinigung der Verfolgten des Naziregimes - ECPv6.15.20//NONSGML v1.0//EN
CALSCALE:GREGORIAN
METHOD:PUBLISH
X-ORIGINAL-URL:https://frankfurtmain.vvn-bda.de
X-WR-CALDESC:Veranstaltungen für Vereinigung der Verfolgten des Naziregimes
REFRESH-INTERVAL;VALUE=DURATION:PT1H
X-Robots-Tag:noindex
X-PUBLISHED-TTL:PT1H
BEGIN:VTIMEZONE
TZID:Europe/Paris
BEGIN:DAYLIGHT
TZOFFSETFROM:+0100
TZOFFSETTO:+0200
TZNAME:CEST
DTSTART:20240331T010000
END:DAYLIGHT
BEGIN:STANDARD
TZOFFSETFROM:+0200
TZOFFSETTO:+0100
TZNAME:CET
DTSTART:20241027T010000
END:STANDARD
BEGIN:DAYLIGHT
TZOFFSETFROM:+0100
TZOFFSETTO:+0200
TZNAME:CEST
DTSTART:20250330T010000
END:DAYLIGHT
BEGIN:STANDARD
TZOFFSETFROM:+0200
TZOFFSETTO:+0100
TZNAME:CET
DTSTART:20251026T010000
END:STANDARD
BEGIN:DAYLIGHT
TZOFFSETFROM:+0100
TZOFFSETTO:+0200
TZNAME:CEST
DTSTART:20260329T010000
END:DAYLIGHT
BEGIN:STANDARD
TZOFFSETFROM:+0200
TZOFFSETTO:+0100
TZNAME:CET
DTSTART:20261025T010000
END:STANDARD
END:VTIMEZONE
BEGIN:VEVENT
DTSTART;TZID=Europe/Paris:20250508T140000
DTEND;TZID=Europe/Paris:20250508T190000
DTSTAMP:20260422T065054
CREATED:20250410T183102Z
LAST-MODIFIED:20250414T162640Z
UID:8137-1746712800-1746730800@frankfurtmain.vvn-bda.de
SUMMARY:Tag der Befreiung vom Faschismus
DESCRIPTION:Jede und jeder ist eingeladen\, sich am Tag der Befreiung zu beteiligen: Leg am 8. Mai eine Blume an einem Stolperstein oder an einem Gedenkort nieder.\nGedenkobjekte: https://www.frankfurt1933-1945.de/topografie/aktueller-plan/filterthemaaktuell/gedenken\nStolpersteine: https://www.stolpersteine-frankfurt.de/de/dokumentation \nDas Programm:\n14 bis 19 Uhr\, Römerberg: Organisationen und Initiativen stellen sich vor (Infostände)\n15:30 Uhr\, Paulsplatz\, Mahnmal an der Paulskirche: Kranzniederlegung\, musikalische Begleitung: Roman Kuperschmidt\n16 Uhr\, Römerberg: Eröffnung\, Grußworte von Stadtverordneten\nmusikalisches Intermezzo: Roman Kuperschmidt Klezmer Band\nLesung aus Briefen von NS-Verfolgten\, vorgetragen von Schülerinnen\nmusikalisches Intermezzo: Roman Kuperschmidt Klezmer Band\nGesprächsrunde: 8. Mai: Zwei Generationen\, ein Tag\, viele Fragen\, Ulrike Eifler (IG Metall\, Mitinitiatorin des Aufrufs „Gewerkschafterin gegen Aufrüstung und Krieg“ unterhält sich mit Dieter Hooge (ehemaliger Frankfurter Gewerkschaftssekretär\, sprach zum 30. Jahrestag der Befreiung auf dem Römerberg)\, Gesprächsmoderation: Mirkan (DGB-Jugend)\n18 Uhr\, Musik: Gastone\n19 Uhr: Abschluss \nSiehe auch: https://8mai.de/frankfurt-2025/
URL:https://frankfurtmain.vvn-bda.de/event/tag-der-befreiung-vom-faschismus/
LOCATION:Römerberg\, Römerberg\, 60311 Frankfurt
END:VEVENT
END:VCALENDAR