BEGIN:VCALENDAR
VERSION:2.0
PRODID:-//Vereinigung der Verfolgten des Naziregimes - ECPv6.15.20//NONSGML v1.0//EN
CALSCALE:GREGORIAN
METHOD:PUBLISH
X-WR-CALNAME:Vereinigung der Verfolgten des Naziregimes
X-ORIGINAL-URL:https://frankfurtmain.vvn-bda.de
X-WR-CALDESC:Veranstaltungen für Vereinigung der Verfolgten des Naziregimes
REFRESH-INTERVAL;VALUE=DURATION:PT1H
X-Robots-Tag:noindex
X-PUBLISHED-TTL:PT1H
BEGIN:VTIMEZONE
TZID:Europe/Paris
BEGIN:DAYLIGHT
TZOFFSETFROM:+0100
TZOFFSETTO:+0200
TZNAME:CEST
DTSTART:20240331T010000
END:DAYLIGHT
BEGIN:STANDARD
TZOFFSETFROM:+0200
TZOFFSETTO:+0100
TZNAME:CET
DTSTART:20241027T010000
END:STANDARD
BEGIN:DAYLIGHT
TZOFFSETFROM:+0100
TZOFFSETTO:+0200
TZNAME:CEST
DTSTART:20250330T010000
END:DAYLIGHT
BEGIN:STANDARD
TZOFFSETFROM:+0200
TZOFFSETTO:+0100
TZNAME:CET
DTSTART:20251026T010000
END:STANDARD
BEGIN:DAYLIGHT
TZOFFSETFROM:+0100
TZOFFSETTO:+0200
TZNAME:CEST
DTSTART:20260329T010000
END:DAYLIGHT
BEGIN:STANDARD
TZOFFSETFROM:+0200
TZOFFSETTO:+0100
TZNAME:CET
DTSTART:20261025T010000
END:STANDARD
END:VTIMEZONE
BEGIN:VEVENT
DTSTART;TZID=Europe/Paris:20250509T140000
DTEND;TZID=Europe/Paris:20250509T150000
DTSTAMP:20260422T065010
CREATED:20250410T182700Z
LAST-MODIFIED:20250410T182700Z
UID:8135-1746799200-1746802800@frankfurtmain.vvn-bda.de
SUMMARY:Kranzniederlegung: Gedenken sowjetische Opfer
DESCRIPTION:Auf dem Hauptfriedhof\, Eckenheimer Landstraße 196\, 60320 Frankfurt.
URL:https://frankfurtmain.vvn-bda.de/event/kranzniederlegung-gedenken-sowjetische-opfer/
END:VEVENT
BEGIN:VEVENT
DTSTART;TZID=Europe/Paris:20250509T190000
DTEND;TZID=Europe/Paris:20250509T210000
DTSTAMP:20260422T065010
CREATED:20250410T182404Z
LAST-MODIFIED:20250410T182404Z
UID:8133-1746817200-1746824400@frankfurtmain.vvn-bda.de
SUMMARY:80 Jahre nach der Befreiung: Mit der Erinnerung in der Gegenwart leben – Zeitzeugengespräch mit Ernst Grube
DESCRIPTION:Ernst Grubes Familie wurde von den Nationalsozialisten entrechtet\, ausgegrenzt und verfolgt. Er musste in Münchner Deportationslagern leben\, den gelben Stern tragen und wurde mit seiner Mutter und zwei Geschwistern in das Ghetto Theresienstadt deportiert. Am 8. Mai 1945 wurden sie dort von Soldaten der Roten Armee befreit. Nach 1945 engagierte sich Ernst Grube u.a. in Gewerkschaft\, FDJ und KPD für ein demokratisches\, friedliches Deutschland\, gegen Remilitarisierung und atomare Aufrüstung und setzte sich damit erneuter Verfolgung in der Bundesrepublik aus. Im Bericht des bayerischen Verfassungsschutzes von 2010 wurde er als Linksextremist diffamiert\, der die VVN/BdA entsprechend beeinflussen würde.\nSeit Jahrzehnten klärt Ernst Grube über Verbrechen der NS-Diktatur auf und ist bis heute gegen Ausgrenzung und Unterdrückung aktiv. Für sein lebenslanges Engagement zeichnete ihn seine Heimatstadt München 2017 mit dem Georg-Elser-Preis\, dem Bürgerpreis der Stadt 2020 und mit der Ehrenbürgerwürde 2023 aus.\nErnst Grube ist langjähriges Mitglied der Vereinigung der Verfolgten des Naziregimes (VVN/BdA)\, Präsident der Lagergemeinschaft Dachau e.V. und Vorsitzender des Kuratoriums der Stiftung Bayerischer Gedenkstätten. \nTeilnahme per Zoom: https://us06web.zoom.us/j/87994008429
URL:https://frankfurtmain.vvn-bda.de/event/80-jahre-nach-der-befreiung-mit-der-erinnerung-in-der-gegenwart-leben-zeitzeugengespraech-mit-ernst-grube/
END:VEVENT
END:VCALENDAR