BEGIN:VCALENDAR
VERSION:2.0
PRODID:-//Vereinigung der Verfolgten des Naziregimes - ECPv6.15.20//NONSGML v1.0//EN
CALSCALE:GREGORIAN
METHOD:PUBLISH
X-WR-CALNAME:Vereinigung der Verfolgten des Naziregimes
X-ORIGINAL-URL:https://frankfurtmain.vvn-bda.de
X-WR-CALDESC:Veranstaltungen für Vereinigung der Verfolgten des Naziregimes
REFRESH-INTERVAL;VALUE=DURATION:PT1H
X-Robots-Tag:noindex
X-PUBLISHED-TTL:PT1H
BEGIN:VTIMEZONE
TZID:Europe/Paris
BEGIN:DAYLIGHT
TZOFFSETFROM:+0100
TZOFFSETTO:+0200
TZNAME:CEST
DTSTART:20240331T010000
END:DAYLIGHT
BEGIN:STANDARD
TZOFFSETFROM:+0200
TZOFFSETTO:+0100
TZNAME:CET
DTSTART:20241027T010000
END:STANDARD
BEGIN:DAYLIGHT
TZOFFSETFROM:+0100
TZOFFSETTO:+0200
TZNAME:CEST
DTSTART:20250330T010000
END:DAYLIGHT
BEGIN:STANDARD
TZOFFSETFROM:+0200
TZOFFSETTO:+0100
TZNAME:CET
DTSTART:20251026T010000
END:STANDARD
BEGIN:DAYLIGHT
TZOFFSETFROM:+0100
TZOFFSETTO:+0200
TZNAME:CEST
DTSTART:20260329T010000
END:DAYLIGHT
BEGIN:STANDARD
TZOFFSETFROM:+0200
TZOFFSETTO:+0100
TZNAME:CET
DTSTART:20261025T010000
END:STANDARD
END:VTIMEZONE
BEGIN:VEVENT
DTSTART;TZID=Europe/Paris:20250520T190000
DTEND;TZID=Europe/Paris:20250520T210000
DTSTAMP:20260422T064956
CREATED:20250331T160805Z
LAST-MODIFIED:20250331T160805Z
UID:8055-1747767600-1747774800@frankfurtmain.vvn-bda.de
SUMMARY:Buchvorstellung: Zeit heilt keine Wunden. Mit Ernst Grube und Hannah Brinkmann
DESCRIPTION:‚Mischlinge ersten Grades‘ – so wurden nach den ‚Nürnberger Gesetzen‘ Kinder genannt\, die ein jüdisches Elternteil haben. So auch Ernst Grube. Seine Familie befindet sich während der Herrschaft der Nationalsozialisten im ständigen Kampf ums Überleben. Anfang 1945 wird er als Junge mit einem der letzten Transporte nach Theresienstadt deportiert und schließlich von der Roten Armee befreit. Nach dem Krieg engagiert sich Ernst Grube in der kommunistischen Bewegung der BRD. In den 1950er Jahren wird er wegen seiner politischen Aktivität verurteilt und inhaftiert. Vor dem Bundesgerichtshof steht Ernst Grube dem Richter Kurt Weber gegenüber\, einst Erster Staatsanwalt unter den Nationalsozialisten. Er ist Vertreter einer Justiz\, durch deren Antikommunismus in der noch jungen Bundesrepublik unverhältnismäßige Urteile gefällt werden.\nIn „Zeit heilt keine Wunden“ aus der Feder von Hannah Brinkmann werden die Lebenslinien von Ernst Grube und Kurt Weber kontrastierend in Beziehung gesetzt. Die Graphic Novel ist eine Hommage an Ernst Grube\, dessen Lebensweg zeigt\, dass es Verletzungen gibt\, die nicht heilen. Sie erinnern uns daran\, dass die Vergangenheit Teil unserer Gegenwart ist. \n2024 erhielt Hannah Brinkmann den Dortmunder Comic-Preis. \nVor und nach der Veranstaltung ist die Theke des „Pastel“ für Snacks und Getränke geöffnet.\nEine Veranstaltung von medico international\, Bildungsstätte Anne Frank\, NS-Dokumentationszentrum München\, Vereinigung der Verfolgten des Naziregimes – Bund der Antifaschistinnen und Antifaschisten Kreisvereinigung Frankfurt
URL:https://frankfurtmain.vvn-bda.de/event/buchvorstellung-zeit-heilt-keine-wunden-mit-ernst-grube-und-hannah-brinkmann/
LOCATION:medio-Haus\, Lindleystraße 15\, 60314 Frankfurt
END:VEVENT
END:VCALENDAR