BEGIN:VCALENDAR
VERSION:2.0
PRODID:-//Vereinigung der Verfolgten des Naziregimes - ECPv6.15.20//NONSGML v1.0//EN
CALSCALE:GREGORIAN
METHOD:PUBLISH
X-WR-CALNAME:Vereinigung der Verfolgten des Naziregimes
X-ORIGINAL-URL:https://frankfurtmain.vvn-bda.de
X-WR-CALDESC:Veranstaltungen für Vereinigung der Verfolgten des Naziregimes
REFRESH-INTERVAL;VALUE=DURATION:PT1H
X-Robots-Tag:noindex
X-PUBLISHED-TTL:PT1H
BEGIN:VTIMEZONE
TZID:Europe/Paris
BEGIN:DAYLIGHT
TZOFFSETFROM:+0100
TZOFFSETTO:+0200
TZNAME:CEST
DTSTART:20240331T010000
END:DAYLIGHT
BEGIN:STANDARD
TZOFFSETFROM:+0200
TZOFFSETTO:+0100
TZNAME:CET
DTSTART:20241027T010000
END:STANDARD
BEGIN:DAYLIGHT
TZOFFSETFROM:+0100
TZOFFSETTO:+0200
TZNAME:CEST
DTSTART:20250330T010000
END:DAYLIGHT
BEGIN:STANDARD
TZOFFSETFROM:+0200
TZOFFSETTO:+0100
TZNAME:CET
DTSTART:20251026T010000
END:STANDARD
BEGIN:DAYLIGHT
TZOFFSETFROM:+0100
TZOFFSETTO:+0200
TZNAME:CEST
DTSTART:20260329T010000
END:DAYLIGHT
BEGIN:STANDARD
TZOFFSETFROM:+0200
TZOFFSETTO:+0100
TZNAME:CET
DTSTART:20261025T010000
END:STANDARD
END:VTIMEZONE
BEGIN:VEVENT
DTSTART;TZID=Europe/Paris:20250708T170000
DTEND;TZID=Europe/Paris:20250708T190000
DTSTAMP:20260422T033804
CREATED:20250623T173815Z
LAST-MODIFIED:20250623T174213Z
UID:8363-1751994000-1752001200@frankfurtmain.vvn-bda.de
SUMMARY:Mahnwache: Atomwaffen abschaffen! Keine atomare Aufrüstung der EU!
DESCRIPTION:Am 8. Juli 1996 hat der Internationale Gerichtshof in einem Rechtsgutachten im Auftrag der Generalversammlung der Vereinten Nationen festgestellt\, dass die Erforschung\, die Androhung und der Einsatz von Atomwaffen grundsätzlich völkerrechtswidrig sind. Trotzdem wird in der EU über die Anschaffung von Atomwaffen diskutiert und Teile der CDU befürworten die atomare Bewaffnung Deutschlands. Völlig vergessen scheinen die apokalyptischen Auswirkungen der beiden Atomwaffenabwürfe durch die USA. Zwei Bomben\, von den Militärs „Little Boy“ und „Fat Man“ genannt\, vernichteten am 6. und 9.August 1945 das Leben von Hunderttausenden von Menschen in Hiroshima und Nagasaki – eine bis dahin unbekannte Dimension kriegerischer Gewalt. 1982 haben die Bürgermeister von Hiroshima und Nagasaki\, die Organisation Mayors for Peace gegründet. In Person des Oberbürgermeisters ist auch Frankfurt Mitglied dieser Organisation. Am 8. Juli wird in 590 Städten die Flagge der die Mayors for Peace gehisst. Die Friedensbewegung nimmt das Datum zum Anlass\, gegen jegliches Bestreben atomarer Aufrüstung zu protestieren. Sie fordert die Politik auf\, sich an den Friedensauftrag im Grundgesetz zu halten\, und in der heutigen Zeit\, die laut SIPRI so gefährlich ist wie nie zuvor nach 1945\, auch nicht mit Worten weiter zu eskalieren sondern sich im Interesse der Bevölkerung für Diplomatie und Frieden einzusetzen.\nWir fordern als Konsequenz aus dem Rechtsgutachten des IGH\, dass sich die deutschen „Bürgermeister für Frieden“ für den Beitritt Deutschlands zum Atomwaffenverbotsvertrag einsetzen. Ebenso fordern wir das Verbot der Mittelstreckenwaffen\, die Angriffswaffen sind und atomar bestückt werden können. \nVeranstaltet von: Naturfreunde Frankfurt\, IPPNW\, DFG-VK Frankfurt\, VVN-BdA Frankfurt
URL:https://frankfurtmain.vvn-bda.de/event/mahnwache-atomwaffen-abschaffen-keine-atomare-aufruestung-der-eu/
LOCATION:Römerberg\, Römerberg\, 60311 Frankfurt
END:VEVENT
END:VCALENDAR