BEGIN:VCALENDAR
VERSION:2.0
PRODID:-//Vereinigung der Verfolgten des Naziregimes - ECPv6.15.20//NONSGML v1.0//EN
CALSCALE:GREGORIAN
METHOD:PUBLISH
X-ORIGINAL-URL:https://frankfurtmain.vvn-bda.de
X-WR-CALDESC:Veranstaltungen für Vereinigung der Verfolgten des Naziregimes
REFRESH-INTERVAL;VALUE=DURATION:PT1H
X-Robots-Tag:noindex
X-PUBLISHED-TTL:PT1H
BEGIN:VTIMEZONE
TZID:Europe/Paris
BEGIN:DAYLIGHT
TZOFFSETFROM:+0100
TZOFFSETTO:+0200
TZNAME:CEST
DTSTART:20240331T010000
END:DAYLIGHT
BEGIN:STANDARD
TZOFFSETFROM:+0200
TZOFFSETTO:+0100
TZNAME:CET
DTSTART:20241027T010000
END:STANDARD
BEGIN:DAYLIGHT
TZOFFSETFROM:+0100
TZOFFSETTO:+0200
TZNAME:CEST
DTSTART:20250330T010000
END:DAYLIGHT
BEGIN:STANDARD
TZOFFSETFROM:+0200
TZOFFSETTO:+0100
TZNAME:CET
DTSTART:20251026T010000
END:STANDARD
BEGIN:DAYLIGHT
TZOFFSETFROM:+0100
TZOFFSETTO:+0200
TZNAME:CEST
DTSTART:20260329T010000
END:DAYLIGHT
BEGIN:STANDARD
TZOFFSETFROM:+0200
TZOFFSETTO:+0100
TZNAME:CET
DTSTART:20261025T010000
END:STANDARD
END:VTIMEZONE
BEGIN:VEVENT
DTSTART;TZID=Europe/Paris:20250713T190000
DTEND;TZID=Europe/Paris:20250713T210000
DTSTAMP:20260422T033959
CREATED:20250606T140117Z
LAST-MODIFIED:20250623T165237Z
UID:8322-1752433200-1752440400@frankfurtmain.vvn-bda.de
SUMMARY:Antifaschistische Filmreihe: Mothers of the Revolution
DESCRIPTION:Im Jahr 1981 machte sich eine Gruppe von 36 Frauen zu Fuß auf den 190km langen Weg von Cardiff nach Berkshire\, um gegen die geplante Ankunft von amerikanischen Atomraketen auf britischem Boden zu protestieren. Dabei starteten sie etwas Außergewöhnliches\, und veranlassten mehr als 70.000 Frauen dazu\, ihre Kinder und zukünftige Generationen zu schützen.\nOpen-Air-Veranastaltung\, Eintritt frei. Präsentiert von Rheinmetall Entwaffnen Rhein-Main.
URL:https://frankfurtmain.vvn-bda.de/event/mothers-of-the-revolution-nzl-2021-r-b-march-102-min/
LOCATION:DGB-Jugendclub U68\, Wilhelm-Leuschner-Str. 69\, 60329 Frankfurt
END:VEVENT
END:VCALENDAR