BEGIN:VCALENDAR
VERSION:2.0
PRODID:-//Vereinigung der Verfolgten des Naziregimes - ECPv6.15.20//NONSGML v1.0//EN
CALSCALE:GREGORIAN
METHOD:PUBLISH
X-WR-CALNAME:Vereinigung der Verfolgten des Naziregimes
X-ORIGINAL-URL:https://frankfurtmain.vvn-bda.de
X-WR-CALDESC:Veranstaltungen für Vereinigung der Verfolgten des Naziregimes
REFRESH-INTERVAL;VALUE=DURATION:PT1H
X-Robots-Tag:noindex
X-PUBLISHED-TTL:PT1H
BEGIN:VTIMEZONE
TZID:Europe/Paris
BEGIN:DAYLIGHT
TZOFFSETFROM:+0100
TZOFFSETTO:+0200
TZNAME:CEST
DTSTART:20240331T010000
END:DAYLIGHT
BEGIN:STANDARD
TZOFFSETFROM:+0200
TZOFFSETTO:+0100
TZNAME:CET
DTSTART:20241027T010000
END:STANDARD
BEGIN:DAYLIGHT
TZOFFSETFROM:+0100
TZOFFSETTO:+0200
TZNAME:CEST
DTSTART:20250330T010000
END:DAYLIGHT
BEGIN:STANDARD
TZOFFSETFROM:+0200
TZOFFSETTO:+0100
TZNAME:CET
DTSTART:20251026T010000
END:STANDARD
BEGIN:DAYLIGHT
TZOFFSETFROM:+0100
TZOFFSETTO:+0200
TZNAME:CEST
DTSTART:20260329T010000
END:DAYLIGHT
BEGIN:STANDARD
TZOFFSETFROM:+0200
TZOFFSETTO:+0100
TZNAME:CET
DTSTART:20261025T010000
END:STANDARD
END:VTIMEZONE
BEGIN:VEVENT
DTSTART;TZID=Europe/Paris:20251020T190000
DTEND;TZID=Europe/Paris:20251020T210000
DTSTAMP:20260421T230141
CREATED:20250925T095542Z
LAST-MODIFIED:20250925T095542Z
UID:8483-1760986800-1760994000@frankfurtmain.vvn-bda.de
SUMMARY:Anna Seghers 125 – Jüdin\, Kommunistin\, weltweit gefeierte Schriftstellerin
DESCRIPTION:Nach ihrem Exil in Frankreich und Mexiko entscheidet sich Anna Seghers für ein Leben in der DDR. Vor 125 Jahren wurde sie in Mainz geboren\, 1981 erhielt sie die Ehrenbürgerwürde der Stadt. Wir blicken auf ihre Biographie und betrachten das Werk von Anna Seghers\, das weder an literarischer Kraft noch an Aktualität verloren hat. \nGäste:\nHelga Neumann\, Literaturarchiv der Akademie der Künste\, Berlin\nClaudia Cabrera\, Übersetzerin der Exilwerke von Anna Seghers\, Goethe-Medaille 2024\, Mexiko-Stadt\nBettina Kaminski\, Schauspielerin Titania\, Frankfurt-Bockenheim\nModeration: Claus-Jürgen Göpfert \nEintritt ist frei\, Anmeldung an: hausamdom@bistumlimburg.de
URL:https://frankfurtmain.vvn-bda.de/event/anna-seghers-125-juedin-kommunistin-weltweit-gefeierte-schriftstellerin/
LOCATION:Haus am Dom\, Domplatz 3\, 60311 Frankfurt
END:VEVENT
END:VCALENDAR