BEGIN:VCALENDAR
VERSION:2.0
PRODID:-//Vereinigung der Verfolgten des Naziregimes - ECPv6.15.20//NONSGML v1.0//EN
CALSCALE:GREGORIAN
METHOD:PUBLISH
X-WR-CALNAME:Vereinigung der Verfolgten des Naziregimes
X-ORIGINAL-URL:https://frankfurtmain.vvn-bda.de
X-WR-CALDESC:Veranstaltungen für Vereinigung der Verfolgten des Naziregimes
REFRESH-INTERVAL;VALUE=DURATION:PT1H
X-Robots-Tag:noindex
X-PUBLISHED-TTL:PT1H
BEGIN:VTIMEZONE
TZID:Europe/Paris
BEGIN:DAYLIGHT
TZOFFSETFROM:+0100
TZOFFSETTO:+0200
TZNAME:CEST
DTSTART:20240331T010000
END:DAYLIGHT
BEGIN:STANDARD
TZOFFSETFROM:+0200
TZOFFSETTO:+0100
TZNAME:CET
DTSTART:20241027T010000
END:STANDARD
BEGIN:DAYLIGHT
TZOFFSETFROM:+0100
TZOFFSETTO:+0200
TZNAME:CEST
DTSTART:20250330T010000
END:DAYLIGHT
BEGIN:STANDARD
TZOFFSETFROM:+0200
TZOFFSETTO:+0100
TZNAME:CET
DTSTART:20251026T010000
END:STANDARD
BEGIN:DAYLIGHT
TZOFFSETFROM:+0100
TZOFFSETTO:+0200
TZNAME:CEST
DTSTART:20260329T010000
END:DAYLIGHT
BEGIN:STANDARD
TZOFFSETFROM:+0200
TZOFFSETTO:+0100
TZNAME:CET
DTSTART:20261025T010000
END:STANDARD
END:VTIMEZONE
BEGIN:VEVENT
DTSTART;TZID=Europe/Paris:20251120T190000
DTEND;TZID=Europe/Paris:20251120T210000
DTSTAMP:20260421T213255
CREATED:20251007T153949Z
LAST-MODIFIED:20251107T120939Z
UID:8504-1763665200-1763672400@frankfurtmain.vvn-bda.de
SUMMARY:antifa Erzählcafé: Mein Onkel Heinrich Schulz – Jürgen Leinhos berichtet über das Schicksal seines Onkels
DESCRIPTION:Es war kurz vor dem sechsten Geburtstag von Jürgen Leinhos\, als er von der Ermordung seines Onkels Heinrich erfuhr. Heinrich war gerade 20 Jahr alt geworden\, nun gab es nur einen Abschiedsbrief für seine Eltern und Geschwister. Dies alles passierte 152 Tage vor dem Ende des Zweiten Weltkriegs. Seither ist Onkel Heinrich auf einem Soldatenfriedhof in Lothringen begraben.\nHeinrichs Schicksal hat die Familie von Jürgen Leinhos in tiefe Trauer gestürzt und das weitere Leben sehr geprägt. In den folgenden Jahrzehnten trat die Erinnerung immer wieder in den Vordergrund\, obwohl ein Gedenken an Heinrich in den wechselnden Phasen der Geschichte deutlich behindert wurde.
URL:https://frankfurtmain.vvn-bda.de/event/antifa-erzaehlcafe-mein-onkel-heinrich-schulz-waere-jetzt-101-jahre-alt/
LOCATION:Club Voltaire\, Kleine Hochstr. 5\, 60313 Frankfurt
END:VEVENT
BEGIN:VEVENT
DTSTART;TZID=Europe/Paris:20251120T190000
DTEND;TZID=Europe/Paris:20251120T210000
DTSTAMP:20260421T213255
CREATED:20251107T120551Z
LAST-MODIFIED:20251107T120742Z
UID:8541-1763665200-1763672400@frankfurtmain.vvn-bda.de
SUMMARY:Antifaschistische Filmreihe: Das Urteil von Nürnberg (USA 1961\, R: S. Kramer\, 188 Min.)
DESCRIPTION:Zum 80. Jahrestag der Nürnberger Prozesse gegen die Kriegsverbrechen der deutschen Faschisten zeigen wir diesen Spielfilm. Das Werk rückt die Juristenprozesse ins Zentrum. Nachdem die Hauptkriegsverbrecher bereits verurteilt waren\, galt es nun zu klären\, wie Intellektuelle dazu kamen\, das Nazi-Regime zu stützen. Der Film zeigt nicht nur die Schuld der Angeklagten\, sondern fragt auch\, wie eine ganze Gesellschaft Verbrechen zulassen konnte. Gleichzeitig thematisiert er die zerstörerische Wirkung des „Kalten Krieges“\, der im Dienste einer kapitalistischen Nachkriegsordnung auf Milde gegenüber den Verbrechern drängte. \nDer Eintritt ist frei. Präsentiert von SDS Frankfurt und anschließendem Filmgespräch. \nFilmvorführung an der Goethe Uni\, IG Farben-Gebäude\, R. IG 251\, Norbert-Wollheim-Platz 1\, 60323 Frankfurt
URL:https://frankfurtmain.vvn-bda.de/event/antifaschistische-filmreihe-das-urteil-von-nuernberg-usa-1961-r-s-kramer-188-min/
LOCATION:IG-Farben-Gebäude\, Norbert-Wollheim-Platz 1\, 60323 Frankfurt
END:VEVENT
END:VCALENDAR