BEGIN:VCALENDAR
VERSION:2.0
PRODID:-//Vereinigung der Verfolgten des Naziregimes - ECPv6.15.20//NONSGML v1.0//EN
CALSCALE:GREGORIAN
METHOD:PUBLISH
X-WR-CALNAME:Vereinigung der Verfolgten des Naziregimes
X-ORIGINAL-URL:https://frankfurtmain.vvn-bda.de
X-WR-CALDESC:Veranstaltungen für Vereinigung der Verfolgten des Naziregimes
REFRESH-INTERVAL;VALUE=DURATION:PT1H
X-Robots-Tag:noindex
X-PUBLISHED-TTL:PT1H
BEGIN:VTIMEZONE
TZID:Europe/Paris
BEGIN:DAYLIGHT
TZOFFSETFROM:+0100
TZOFFSETTO:+0200
TZNAME:CEST
DTSTART:20240331T010000
END:DAYLIGHT
BEGIN:STANDARD
TZOFFSETFROM:+0200
TZOFFSETTO:+0100
TZNAME:CET
DTSTART:20241027T010000
END:STANDARD
BEGIN:DAYLIGHT
TZOFFSETFROM:+0100
TZOFFSETTO:+0200
TZNAME:CEST
DTSTART:20250330T010000
END:DAYLIGHT
BEGIN:STANDARD
TZOFFSETFROM:+0200
TZOFFSETTO:+0100
TZNAME:CET
DTSTART:20251026T010000
END:STANDARD
BEGIN:DAYLIGHT
TZOFFSETFROM:+0100
TZOFFSETTO:+0200
TZNAME:CEST
DTSTART:20260329T010000
END:DAYLIGHT
BEGIN:STANDARD
TZOFFSETFROM:+0200
TZOFFSETTO:+0100
TZNAME:CET
DTSTART:20261025T010000
END:STANDARD
END:VTIMEZONE
BEGIN:VEVENT
DTSTART;VALUE=DATE:20251129
DTEND;VALUE=DATE:20251130
DTSTAMP:20260421T213259
CREATED:20251111T140224Z
LAST-MODIFIED:20251111T140224Z
UID:8548-1764374400-1764460799@frankfurtmain.vvn-bda.de
SUMMARY:Protest gegen die Gründung eines „neuen“ Jugendverbandes der AfD
DESCRIPTION:Am 29. und 30. November will die AfD in Gießen eine neue Jugendorganisation gründen – mit abgewandeltem Reichsadler und Namen wie „Junge Patrioten“ oder „Patriotische Jugend“. Die AfD möchte eine neue Generation gewaltbereiter Faschist*innen heranziehen. Wir stellen uns der Normalisierung der AfD und der Neugründung ihrer Jugendorganisation in Gießen in den Weg!\nWir veranstalten ein Fest der Vielfalt und Solidarität und machen so die Gründung der AfD-Jugend unmöglich. Die Vorbereitung auf Anreise und Aktionen laufen – schließt euch den bundesweiten widersetzen Gruppen und Städten an!\nVon Anreise\, über Demo-Anmeldungen über Konzerte\, alles läuft gerade auf Hochtouren. Blocke das Wochenende schonmal in deinem Kalender und folge uns auf Social Media oder schau regelmäßig auf die Webseite\, um alle Infos zur Anreise und den Aktionen am 29.11.2025 zu bekommen! \nWeitere Informationen: https://widersetzen.com/mitmachen/#giessen
URL:https://frankfurtmain.vvn-bda.de/event/protest-gegen-die-gruendung-eines-neuen-jugendverbandes-der-afd/
END:VEVENT
END:VCALENDAR