BEGIN:VCALENDAR
VERSION:2.0
PRODID:-//Vereinigung der Verfolgten des Naziregimes - ECPv6.15.20//NONSGML v1.0//EN
CALSCALE:GREGORIAN
METHOD:PUBLISH
X-WR-CALNAME:Vereinigung der Verfolgten des Naziregimes
X-ORIGINAL-URL:https://frankfurtmain.vvn-bda.de
X-WR-CALDESC:Veranstaltungen für Vereinigung der Verfolgten des Naziregimes
REFRESH-INTERVAL;VALUE=DURATION:PT1H
X-Robots-Tag:noindex
X-PUBLISHED-TTL:PT1H
BEGIN:VTIMEZONE
TZID:Europe/Paris
BEGIN:DAYLIGHT
TZOFFSETFROM:+0100
TZOFFSETTO:+0200
TZNAME:CEST
DTSTART:20240331T010000
END:DAYLIGHT
BEGIN:STANDARD
TZOFFSETFROM:+0200
TZOFFSETTO:+0100
TZNAME:CET
DTSTART:20241027T010000
END:STANDARD
BEGIN:DAYLIGHT
TZOFFSETFROM:+0100
TZOFFSETTO:+0200
TZNAME:CEST
DTSTART:20250330T010000
END:DAYLIGHT
BEGIN:STANDARD
TZOFFSETFROM:+0200
TZOFFSETTO:+0100
TZNAME:CET
DTSTART:20251026T010000
END:STANDARD
BEGIN:DAYLIGHT
TZOFFSETFROM:+0100
TZOFFSETTO:+0200
TZNAME:CEST
DTSTART:20260329T010000
END:DAYLIGHT
BEGIN:STANDARD
TZOFFSETFROM:+0200
TZOFFSETTO:+0100
TZNAME:CET
DTSTART:20261025T010000
END:STANDARD
END:VTIMEZONE
BEGIN:VEVENT
DTSTART;TZID=Europe/Paris:20251130T190000
DTEND;TZID=Europe/Paris:20251130T210000
DTSTAMP:20260421T213257
CREATED:20251107T122000Z
LAST-MODIFIED:20251107T122000Z
UID:8546-1764529200-1764536400@frankfurtmain.vvn-bda.de
SUMMARY:Antifaschistische Filmreihe: Paragraph 175 (UK/BRD/USA 2000\, R: R. Epstein & J. Friedman\, 75 Min.)
DESCRIPTION:Etwa 100.000 Homosexuelle sind während der NS-Herrschaft in Deutschland inhaftiert und gefoltert worden. Zu Tausenden wurden Schwule und Lesben in deutschen Konzentrationslagern ermordet. Zeitzeugen der Gräueltaten des Nazi-Regimes stellen sich vor der Kamera ihrem Schmerz. Oft bitter\, aber auch mit Ironie und Humor erzählen sie ihre Lebensgeschichten\, die von Nichtanerkennung\, Ausschließung und dem unbedingten Willen zu überleben bestimmt sind. Der Film gibt so Einblick in die Lebenswege von schwulen Männern im Dritten Reich – und dies ohne dokumentarische Bilder aus Konzentrationslagern. Es ist die Vorstellungskraft des Zuschauers\, die das Grauen noch intensiver macht. \nDer Eintritt ist frei. Mit Einleitung und anschließendem Filmgespräch.
URL:https://frankfurtmain.vvn-bda.de/event/antifaschistische-filmreihe-paragraph-175-uk-brd-usa-2000-r-r-epstein-j-friedman-75-min/
LOCATION:Club Voltaire\, Kleine Hochstr. 5\, 60313 Frankfurt
END:VEVENT
END:VCALENDAR