BEGIN:VCALENDAR
VERSION:2.0
PRODID:-//Vereinigung der Verfolgten des Naziregimes - ECPv6.15.20//NONSGML v1.0//EN
CALSCALE:GREGORIAN
METHOD:PUBLISH
X-ORIGINAL-URL:https://frankfurtmain.vvn-bda.de
X-WR-CALDESC:Veranstaltungen für Vereinigung der Verfolgten des Naziregimes
REFRESH-INTERVAL;VALUE=DURATION:PT1H
X-Robots-Tag:noindex
X-PUBLISHED-TTL:PT1H
BEGIN:VTIMEZONE
TZID:Europe/Paris
BEGIN:DAYLIGHT
TZOFFSETFROM:+0100
TZOFFSETTO:+0200
TZNAME:CEST
DTSTART:20250330T010000
END:DAYLIGHT
BEGIN:STANDARD
TZOFFSETFROM:+0200
TZOFFSETTO:+0100
TZNAME:CET
DTSTART:20251026T010000
END:STANDARD
BEGIN:DAYLIGHT
TZOFFSETFROM:+0100
TZOFFSETTO:+0200
TZNAME:CEST
DTSTART:20260329T010000
END:DAYLIGHT
BEGIN:STANDARD
TZOFFSETFROM:+0200
TZOFFSETTO:+0100
TZNAME:CET
DTSTART:20261025T010000
END:STANDARD
BEGIN:DAYLIGHT
TZOFFSETFROM:+0100
TZOFFSETTO:+0200
TZNAME:CEST
DTSTART:20270328T010000
END:DAYLIGHT
BEGIN:STANDARD
TZOFFSETFROM:+0200
TZOFFSETTO:+0100
TZNAME:CET
DTSTART:20271031T010000
END:STANDARD
END:VTIMEZONE
BEGIN:VEVENT
DTSTART;TZID=Europe/Paris:20260125T190000
DTEND;TZID=Europe/Paris:20260125T210000
DTSTAMP:20260421T183657
CREATED:20251121T133145Z
LAST-MODIFIED:20251121T133145Z
UID:8567-1769367600-1769374800@frankfurtmain.vvn-bda.de
SUMMARY:Antifaschistische Filmreihe: Die Odyssee der Waisen 1939-1949 (FR 2024\, R.: D. Ford\, 93 Min.)
DESCRIPTION:hr Schicksal ist ein oft vergessenes Kapitel des Zweiten Weltkriegs: Hunderttausende Minderjährige wurden zu Waisen – so auch 123 polnische Kinder\, die eine über zehn Jahre währende Odyssee erlebten. Wie die Beziehungen der Siegermächte wurde auch ihre Betreuung in der Nachkriegszeit zunehmend zum Spielball politischer Ideologien. Der Krieg hinterließ Millionen Tote\, Leid und Massenvertreibungen. Nach 1945 entstand erstmals die Idee vom „bestmöglichen Interesse des Kindes“\, die sich gegen traditionelle Normen und den Kalten Krieg behaupten musste. Anhand eindrucksvoller Archivaufnahmen erzählt die Dokumentation die Geschichte einer Gruppe polnischer Waisenkinder\, die sich nach Kriegsende in einem Flüchtlingslager in Tansania wiederfinden – von ihrer Verschleppung nach Sibirien bis zur Ankunft in Kanada\, wo sich ihr Schicksal in der Nachkriegswirklichkeit entscheidet. \nDer Eintritt ist frei. Mit Einleitung und anschließendem Filmgespräch.
URL:https://frankfurtmain.vvn-bda.de/event/antifaschistische-filmreihe-die-odyssee-der-waisen-1939-1949-fr-2024-r-d-ford-93-min/
LOCATION:Club Voltaire\, Kleine Hochstr. 5\, 60313 Frankfurt
END:VEVENT
END:VCALENDAR