BEGIN:VCALENDAR
VERSION:2.0
PRODID:-//Vereinigung der Verfolgten des Naziregimes - ECPv6.15.20//NONSGML v1.0//EN
CALSCALE:GREGORIAN
METHOD:PUBLISH
X-WR-CALNAME:Vereinigung der Verfolgten des Naziregimes
X-ORIGINAL-URL:https://frankfurtmain.vvn-bda.de
X-WR-CALDESC:Veranstaltungen für Vereinigung der Verfolgten des Naziregimes
REFRESH-INTERVAL;VALUE=DURATION:PT1H
X-Robots-Tag:noindex
X-PUBLISHED-TTL:PT1H
BEGIN:VTIMEZONE
TZID:Europe/Paris
BEGIN:DAYLIGHT
TZOFFSETFROM:+0100
TZOFFSETTO:+0200
TZNAME:CEST
DTSTART:20250330T010000
END:DAYLIGHT
BEGIN:STANDARD
TZOFFSETFROM:+0200
TZOFFSETTO:+0100
TZNAME:CET
DTSTART:20251026T010000
END:STANDARD
BEGIN:DAYLIGHT
TZOFFSETFROM:+0100
TZOFFSETTO:+0200
TZNAME:CEST
DTSTART:20260329T010000
END:DAYLIGHT
BEGIN:STANDARD
TZOFFSETFROM:+0200
TZOFFSETTO:+0100
TZNAME:CET
DTSTART:20261025T010000
END:STANDARD
BEGIN:DAYLIGHT
TZOFFSETFROM:+0100
TZOFFSETTO:+0200
TZNAME:CEST
DTSTART:20270328T010000
END:DAYLIGHT
BEGIN:STANDARD
TZOFFSETFROM:+0200
TZOFFSETTO:+0100
TZNAME:CET
DTSTART:20271031T010000
END:STANDARD
END:VTIMEZONE
BEGIN:VEVENT
DTSTART;TZID=Europe/Paris:20260221T170000
DTEND;TZID=Europe/Paris:20260221T190000
DTSTAMP:20260421T171104
CREATED:20260116T160507Z
LAST-MODIFIED:20260116T160507Z
UID:8637-1771693200-1771700400@frankfurtmain.vvn-bda.de
SUMMARY:Politisches Gedenken an Dieter Bahndorf
DESCRIPTION:Am 19. November 2025 ist Dieter Bahndorf nach kurzer\, schwerer Krankheit verstorben. Sein Tod trifft uns tief. Mit ihm verlieren wir einen Menschen\, der mit selten anzutreffender Beharrlichkeit\, Klarheit und Präsenz in den öffentlichen wie politischen Raum hineinwirkte. \nDieters Wirken galt dem Kampf gegen Rechts. Unermüdlich recherchierte er in Biografien von AfD-Politikern und anderen Neonazi-Größen. Stets war er auf der Straße im Protest gegen alte und neue Nazis. Seine Freude am Umgang mit Menschen\, seine geduldige Art für seine Überzeugung zu werben\, gerade\, wenn sie auf Kontroversen traf\, seine Zuverlässigkeit und Solidarität werden uns sehr fehlen. \nDieter vertrat die VVN-BdA im Sprecher*innenkreis in Frankfurt a. M.\, als hessischer Landessprecher und als hessisches Mitglied im Bundesausschuss. Er war von Beginn an an der konzeptionellen Arbeit für die Neofaschismus-Ausstellungen der VVN-BdA auf Bundesebene beteiligt und verfügte über großes Wissen\, das bei vielen regionalen Aktionen zum Tragen kam. \nDie bundesweite Kampagne Aufstehen gegen Rassismus war Dieter Herzensanliegen und Verpflichtung zugleich. Mit seinem nahezu allgegenwärtigen Einsatz hat er sichtbar gestaltet\, gestützt\, mobilisiert – und Spuren hinterlassen\, die weit hinausreichen. \nEr hinterlässt uns viel – Beispiel\, Haltung\, Maßstab. Sein Wirken weiterzuführen\, wird schwer. Wir werden es versuchen.
URL:https://frankfurtmain.vvn-bda.de/event/politisches-gedenken-an-dieter-bahndorf/
LOCATION:DGB-Haus Frankfurt\, Wilhelm-Leuschner-Straße 69-77\, 60329 Frankfurt
END:VEVENT
END:VCALENDAR