BEGIN:VCALENDAR
VERSION:2.0
PRODID:-//Vereinigung der Verfolgten des Naziregimes - ECPv6.15.20//NONSGML v1.0//EN
CALSCALE:GREGORIAN
METHOD:PUBLISH
X-ORIGINAL-URL:https://frankfurtmain.vvn-bda.de
X-WR-CALDESC:Veranstaltungen für Vereinigung der Verfolgten des Naziregimes
REFRESH-INTERVAL;VALUE=DURATION:PT1H
X-Robots-Tag:noindex
X-PUBLISHED-TTL:PT1H
BEGIN:VTIMEZONE
TZID:Europe/Paris
BEGIN:DAYLIGHT
TZOFFSETFROM:+0100
TZOFFSETTO:+0200
TZNAME:CEST
DTSTART:20230326T010000
END:DAYLIGHT
BEGIN:STANDARD
TZOFFSETFROM:+0200
TZOFFSETTO:+0100
TZNAME:CET
DTSTART:20231029T010000
END:STANDARD
BEGIN:DAYLIGHT
TZOFFSETFROM:+0100
TZOFFSETTO:+0200
TZNAME:CEST
DTSTART:20240331T010000
END:DAYLIGHT
BEGIN:STANDARD
TZOFFSETFROM:+0200
TZOFFSETTO:+0100
TZNAME:CET
DTSTART:20241027T010000
END:STANDARD
BEGIN:DAYLIGHT
TZOFFSETFROM:+0100
TZOFFSETTO:+0200
TZNAME:CEST
DTSTART:20250330T010000
END:DAYLIGHT
BEGIN:STANDARD
TZOFFSETFROM:+0200
TZOFFSETTO:+0100
TZNAME:CET
DTSTART:20251026T010000
END:STANDARD
END:VTIMEZONE
BEGIN:VEVENT
DTSTART;TZID=Europe/Paris:20240303T140000
DTEND;TZID=Europe/Paris:20240303T160000
DTSTAMP:20260422T222826
CREATED:20240215T160640Z
LAST-MODIFIED:20240215T160640Z
UID:7035-1709474400-1709481600@frankfurtmain.vvn-bda.de
SUMMARY:Internationaler Treff von Nachkommen Verfolgter des Faschismus
DESCRIPTION:Wir wollen uns  weiterhin austauschen über unsere eigenen familiären Vervolgungsgeschichten und uns bei der Recherche  gegenseitig unterstützen. \nIm Mittelpunkt werden diesmal die aktuellen Nachforschungen von Martina van Holst über ihren Großvater Alfons Kahn stehen. Wir freuen uns über weitere Menschen die dazu kommen.
URL:https://frankfurtmain.vvn-bda.de/event/internationaler-treff-von-nachkommen-verfolgter-des-faschismus/
LOCATION:Brotfabrik\, Bachmannstraße 2-4\, 60488 Frankfurt
END:VEVENT
BEGIN:VEVENT
DTSTART;TZID=Europe/Paris:20240321T193000
DTEND;TZID=Europe/Paris:20240321T213000
DTSTAMP:20260422T222826
CREATED:20240215T161301Z
LAST-MODIFIED:20240215T161301Z
UID:7039-1711049400-1711056600@frankfurtmain.vvn-bda.de
SUMMARY:Antifaschistische Filmreihe: Ich war 19 (DDR 1967\, R: K. Wolf\, 119 Min.)
DESCRIPTION:April 1945. In der Uniform eines sowjetischen Leutnants kommt der 19-jährige Deutsche Gregor Hecker in seine Heimat zurück. Er war acht\, als seine Eltern mit ihm nach Moskau emigrierten. Vom 16. April bis zum 2. Mai fährt er im sowjetischen Militärfahrzeug auf dem Weg der 48. Armee von der Oder nördlich an Berlin vorbei. Mit einem Lautsprecher fordert Gregor die noch vereinzelt kämpfenden Soldaten zum Überlaufen auf. Einige kommen\, andere antworten mit Schüssen. Täglich begegnet Gregor Menschen unterschiedlicher Art\, hoffnungsvollen\, verwirrten\, verzweifelten. Bei seinen russischen Freunden fühlt er sich zu Hause\, viele der Deutschen geben ihm Rätsel auf. Langsam begreift er\, dass es „die Deutschen“ nicht gibt. \nDie Filmreihe wird veranstaltet von: VVN-BdA Frankfurt\, A.N.P.I. Frankfurt\, Dritte Welt Haus; in Kooperation mit: Elfer Music Club
URL:https://frankfurtmain.vvn-bda.de/event/antifaschistische-filmreihe-ich-war-19-ddr-1967-r-k-wolf-119-min/
LOCATION:Elfer Music Club\, Kleine Rittergasse 14-20\, 60594 Frankfurt
END:VEVENT
BEGIN:VEVENT
DTSTART;TZID=Europe/Paris:20240327T190000
DTEND;TZID=Europe/Paris:20240327T203000
DTSTAMP:20260422T222826
CREATED:20240311T154319Z
LAST-MODIFIED:20240311T154319Z
UID:7058-1711566000-1711571400@frankfurtmain.vvn-bda.de
SUMMARY:Stammtisch der VVN-BdA Frankfurt
DESCRIPTION:Wir laden euch herzlich zu unserem Stammtisch ein! Wir treffen uns im Club Voltaire und freuen uns\, wenn ihr vorbeischaut\, um einfach ins Gespräch zu kommen…
URL:https://frankfurtmain.vvn-bda.de/event/stammtisch-der-vvn-bda-frankfurt-3/
LOCATION:Club Voltaire\, Kleine Hochstr. 5\, 60313 Frankfurt
END:VEVENT
END:VCALENDAR