BEGIN:VCALENDAR
VERSION:2.0
PRODID:-//Vereinigung der Verfolgten des Naziregimes - ECPv6.15.20//NONSGML v1.0//EN
CALSCALE:GREGORIAN
METHOD:PUBLISH
X-ORIGINAL-URL:https://frankfurtmain.vvn-bda.de
X-WR-CALDESC:Veranstaltungen für Vereinigung der Verfolgten des Naziregimes
REFRESH-INTERVAL;VALUE=DURATION:PT1H
X-Robots-Tag:noindex
X-PUBLISHED-TTL:PT1H
BEGIN:VTIMEZONE
TZID:Europe/Paris
BEGIN:DAYLIGHT
TZOFFSETFROM:+0100
TZOFFSETTO:+0200
TZNAME:CEST
DTSTART:20230326T010000
END:DAYLIGHT
BEGIN:STANDARD
TZOFFSETFROM:+0200
TZOFFSETTO:+0100
TZNAME:CET
DTSTART:20231029T010000
END:STANDARD
BEGIN:DAYLIGHT
TZOFFSETFROM:+0100
TZOFFSETTO:+0200
TZNAME:CEST
DTSTART:20240331T010000
END:DAYLIGHT
BEGIN:STANDARD
TZOFFSETFROM:+0200
TZOFFSETTO:+0100
TZNAME:CET
DTSTART:20241027T010000
END:STANDARD
BEGIN:DAYLIGHT
TZOFFSETFROM:+0100
TZOFFSETTO:+0200
TZNAME:CEST
DTSTART:20250330T010000
END:DAYLIGHT
BEGIN:STANDARD
TZOFFSETFROM:+0200
TZOFFSETTO:+0100
TZNAME:CET
DTSTART:20251026T010000
END:STANDARD
END:VTIMEZONE
BEGIN:VEVENT
DTSTART;TZID=Europe/Paris:20240401T100000
DTEND;TZID=Europe/Paris:20240401T150000
DTSTAMP:20260422T212250
CREATED:20240318T134508Z
LAST-MODIFIED:20240318T134508Z
UID:7081-1711965600-1711983600@frankfurtmain.vvn-bda.de
SUMMARY:Frankfurter Ostermarsch
DESCRIPTION:Auftakte in Frankfurt:\n10:30 Uhr Bahnhof Frankfurt-Rödelheim – 11:30 Uhr Bockenheimer Warte\n11:00 Uhr Frankfurt-Eckenheim (US-Generalkonsulat\, Gießener Straße)\n11:00 Uhr Bruchfeldplatz Frankfurt-Niederrad\n13:00 Uhr Antikriegskundgebung auf dem Frankfurter Römerberg u.a. mit:\nMirkan Doğan\, DGB-Jugend Frankfurt\nMichael Müller (Vorsitzender Naturfreunde)\nAlain Rouy (Mouvement de la Paix\, Paris)\nNirit Sommerfeld (Deutsch-israelische Schauspielerin)\nNelli Zühlke (Internationaler Jugendverein)\nKulturbeiträge „Playtime“ \nWeitere Infos und Link zum Flyer: https://frieden-und-zukunft.de/flyer-ostermarsch-frankfurt-2024/
URL:https://frankfurtmain.vvn-bda.de/event/frankfurter-ostermarsch/
END:VEVENT
BEGIN:VEVENT
DTSTART;TZID=Europe/Paris:20240414T090000
DTEND;TZID=Europe/Paris:20240414T200000
DTSTAMP:20260422T212250
CREATED:20240311T174311Z
LAST-MODIFIED:20240412T134824Z
UID:7060-1713085200-1713124800@frankfurtmain.vvn-bda.de
SUMMARY:Gedenkfahrt nach Buchenwald
DESCRIPTION:Wir fahren mit einem Bus zur Gedenkstätte Buchenwald\, um dort an den offiziellen Gedenkfeierlichkeiten anlässlich der Befreiung des KZ Buchenwald am 11. April 1945 teilzunehmen. Sie beginnt um 14 Uhr. Zuvor besteht die Möglichkeit der eigenständigen Erkundung der Gedenkstätte und des Besuchs der dortigen Dauerausstellung.\nDanach geht es um 17 Uhr wieder zurück nach Frankfurt am Main – Rückankunft gegen 20 Uhr.\nInformationen zur Gedenkstätte: buchenwald.de \nDie Teilnahme ist kostenlos\, eine Spende an die Kampagne #AfDNee erwünscht: afdnee.de\nEine Anmeldung ist erforderlich per E-Mail an frankfurt-Main@dgb.de oder telefonisch unter 069-273005-72. Anmeldeschluss ist der 9. April.\nVeranstaltet vom Deutschen Gewerkschaftsbund Frankfurt und der Vereinigung der Verfolgten des Naziregimes – Bund der AntifaschistInnen (VVN-BdA) \nWeitere Infos und Link zum Flyer: KLICK
URL:https://frankfurtmain.vvn-bda.de/event/gedenkfahrt-nach-buchenwald/
LOCATION:DGB-Haus Frankfurt\, Wilhelm-Leuschner-Straße 69-77\, 60329 Frankfurt
END:VEVENT
BEGIN:VEVENT
DTSTART;TZID=Europe/Paris:20240418T190000
DTEND;TZID=Europe/Paris:20240418T210000
DTSTAMP:20260422T212250
CREATED:20240312T172209Z
LAST-MODIFIED:20240412T134335Z
UID:7075-1713466800-1713474000@frankfurtmain.vvn-bda.de
SUMMARY:antifa Erzählcafé mit Frank Deppe: Kapp-Putsch
DESCRIPTION:Kapp-Putsch. Kampf zwischen Revolution und Gegenrevolution – Franke Deppe analysiert die Geschichte des Putsches vor 104 Jahren \nAm 13. März 1920 marschierten Truppen der Reichswehr und Freikorps – an ihrer Spitze die Marinebrigade Erhardt (mit Hakenkreuzen auf dem Stahlhelm) – unter der Führung von General von Lüttwitz in Berlin ein. Die Regierung war geflohen. Die neue Regierung sollte von Landschaftsdirektor Wolfgang Kapp als Reichskanzler berufen werden. Kapp war Aufsichtsrat der Deutschen Bank\, Gründer der rechten Vaterlandspartei und Finanzier der „Nationalen Vereinigung“. Gegen den Putsch riefen die demokratischen Parteien und alle Gewerkschaften zu einem Generalstreik auf\, der im ganzen Reich befolgt wurde.\nNach 5 Tagen brach der Putsch zusammen. In einigen Regionen – vor allem im Ruhrgebiet – entwickelten sich aus dem Generalstreik militärische Auseinandersetzungen; in denen wiederum die Reichswehr gegen der revolutionären Flügel der Arbeiterbewegung eingesetzt wurde.\nFrank Deppe wird den Putsch im Zusammenhang des Kampfes zwischen Revolution und Gegenrevolution seit Ende 1917 analysieren. Der Generalstreik gegen den Putsch wird als erfolgreiches Beispiel für die Politik der Einheitsfront der Arbeiterbewegung im Kampf gegen Faschismus und Reaktion behandelt. In den Ereignissen vom Frühjahr 1920 verdichten sich aber auch die Widersprüche\, die a) die Niederlage der linken Kräfte in der Revolution und b) den Zusammenbruch der Republik bis zum Jahre 1933 bestimmt haben.\nSchließlich dient die Beschäftigung mit dem Kapp-Putsch auch dazu\, der Frage nachzugehen\, wie in der Gegenwart der Kampf gegen Neofaschisten und die Feinde der Republik geführt werden sollte.\nFrank Deppe\, Professor für Politikwissenschaften an der Universität Marburg von 1972 bis 2006. Er ist Mitglied im wissenschaftlichen Beirat von „attac“\, gehört zum Redaktionsbeirat der „Z. Zeitschrift Marxistische Erneuerung“ und ist Mitherausgeber der Zeitschrift „Sozialismus“. Autor zahlreicher Bücher; in unserem Zusammenhang: 1917 | 2017\, Revolution und Gegenrevolution\, Hamburg\, 2017 \nEine Veranstaltung der VVN-BdA Frankfurt in Kooperation mit dem Club Voltaire. \nLink zum Veranstaltungsflyer: KLICK
URL:https://frankfurtmain.vvn-bda.de/event/antifa-erzaehlcafe-mit-frank-deppe-kapp-putsch/
LOCATION:Club Voltaire\, Kleine Hochstr. 5\, 60313 Frankfurt
END:VEVENT
BEGIN:VEVENT
DTSTART;TZID=Europe/Paris:20240420T130000
DTEND;TZID=Europe/Paris:20240420T150000
DTSTAMP:20260422T212250
CREATED:20240412T120414Z
LAST-MODIFIED:20240412T120414Z
UID:7156-1713618000-1713625200@frankfurtmain.vvn-bda.de
SUMMARY:Kundgebung: Zusammen gegen Rechts
DESCRIPTION:Die Europawahl und die Landtagswahlen im Osten stehen an und die Gefahr des Rechtsextremismus in Deutschland ist real.\nNach der Veröffentlichung der Correktiv-Recherchen zu den Deportationsplänen der AfD Anfang des Jahres sind in Deutschland Millionen von Menschen auf die Straße gegangen\, um gegen die AFD zu demonstrieren. Alleine hier in Frankfurt waren wir Zehntausende auf der Straße. Seitdem sind die Umfragewerte der AFD von 23% auf 17% gesunken. Immer mehr Menschen erkennen die Gefahr\, die von der AfD ausgeht\, die Gefahr der Rückkehr des Faschismus. Es zeigt sich eindeutig: der Protest wirkt!\nMit den anstehenden Wahlen liegt es jetzt an uns\, zu zeigen\, dass die großen Demos im Januar kein einmaliger Aufschrei waren\, dass wir nicht einfach zusehen wie Faschos Stück für Stück die Parlamente übernehmen. Wir werden nicht einfach zusehen\, wie die AfD hetzt während die Antwort der vermeintlichen Parteien der Mitte ist\, einfach AfD-Forderungen zu übernehmen\, selber rassistische Abschiebepolitik zu betreiben und vom Abschieben im großen Stil zu reden.\nNein\, wir müssen jetzt gemeinsam laut sein gegen den Rechtsruck den wir gerade erleben. Es braucht jetzt eine klare Abgrenzung\, klare Kante gegen Rechts. Also lasst uns gemeinsam als große\, bunte Demo am für eine offene\, für eine tolerante Gesellschaft auf die Straße gehen. \nVeranstalter: Fridays for future Frankfurt u.a.
URL:https://frankfurtmain.vvn-bda.de/event/kundgebung-zusammen-gegen-rechts/
LOCATION:Opernplatz\, Opernplatz\, 60313 Frankfurt
END:VEVENT
BEGIN:VEVENT
DTSTART;TZID=Europe/Paris:20240421T190000
DTEND;TZID=Europe/Paris:20240421T210000
DTSTAMP:20260422T212250
CREATED:20240312T172442Z
LAST-MODIFIED:20240312T172453Z
UID:7078-1713726000-1713733200@frankfurtmain.vvn-bda.de
SUMMARY:Antifaschistische Filmreihe: Der Rat der Götter (DDR 1950\, R: K. Maetzig\, 101 Min.)
DESCRIPTION:Der Film thematisiert auf Grundlage von Akten der Nürnberger Prozesse die Verstrickung des IG Farben-Konzerns in nationalsozialistische Verbrechen. Im Zentrum der Handlung stehen der Vorstandsvorsitzende Geheimrat Mauch und der Chemiker Dr. Scholz. Beide sind hauptverantwortlich für die Rüstungsproduktion und Giftgasherstellung für die Schoah. Dr. Scholz zieht sich stets auf seine wissenschaftliche Neutralität zurück und verschließt aus Angst um Stellung und Familie die Augen\, Mauch entspricht dem Bild des nach Gewinn und Expansion strebenden Großindustriellen\, der sich dabei schuldig macht. \nDie Filmreihe wird veranstaltet von: VVN-BdA Frankfurt\, A.N.P.I. Frankfurt\, Dritte Welt Haus; in Kooperation mit dem Club Voltaire\nWeitere Vorführungen und Flyer siehe: \nantifaschistische Filmreihe Winter 2023/2024
URL:https://frankfurtmain.vvn-bda.de/event/antifaschistische-filmreihe-der-rat-der-goetter-ddr-1950-r-k-maetzig-101-min/
LOCATION:Club Voltaire\, Kleine Hochstr. 5\, 60313 Frankfurt
END:VEVENT
BEGIN:VEVENT
DTSTART;TZID=Europe/Paris:20240424T190000
DTEND;TZID=Europe/Paris:20240424T210000
DTSTAMP:20260422T212250
CREATED:20240404T122908Z
LAST-MODIFIED:20240404T122908Z
UID:7139-1713985200-1713992400@frankfurtmain.vvn-bda.de
SUMMARY:Stammtisch der VVN-BdA Frankfurt
DESCRIPTION:Wir laden euch herzlich zu unserem Stammtisch ein! Wir treffen uns im Club Voltaire und freuen uns\, wenn ihr vorbeischaut\, um einfach ins Gespräch zu kommen…
URL:https://frankfurtmain.vvn-bda.de/event/stammtisch-der-vvn-bda-frankfurt-4/
LOCATION:Club Voltaire\, Kleine Hochstr. 5\, 60313 Frankfurt
END:VEVENT
END:VCALENDAR