BEGIN:VCALENDAR
VERSION:2.0
PRODID:-//Vereinigung der Verfolgten des Naziregimes - ECPv6.15.20//NONSGML v1.0//EN
CALSCALE:GREGORIAN
METHOD:PUBLISH
X-WR-CALNAME:Vereinigung der Verfolgten des Naziregimes
X-ORIGINAL-URL:https://frankfurtmain.vvn-bda.de
X-WR-CALDESC:Veranstaltungen für Vereinigung der Verfolgten des Naziregimes
REFRESH-INTERVAL;VALUE=DURATION:PT1H
X-Robots-Tag:noindex
X-PUBLISHED-TTL:PT1H
BEGIN:VTIMEZONE
TZID:Europe/Paris
BEGIN:DAYLIGHT
TZOFFSETFROM:+0100
TZOFFSETTO:+0200
TZNAME:CEST
DTSTART:20230326T010000
END:DAYLIGHT
BEGIN:STANDARD
TZOFFSETFROM:+0200
TZOFFSETTO:+0100
TZNAME:CET
DTSTART:20231029T010000
END:STANDARD
BEGIN:DAYLIGHT
TZOFFSETFROM:+0100
TZOFFSETTO:+0200
TZNAME:CEST
DTSTART:20240331T010000
END:DAYLIGHT
BEGIN:STANDARD
TZOFFSETFROM:+0200
TZOFFSETTO:+0100
TZNAME:CET
DTSTART:20241027T010000
END:STANDARD
BEGIN:DAYLIGHT
TZOFFSETFROM:+0100
TZOFFSETTO:+0200
TZNAME:CEST
DTSTART:20250330T010000
END:DAYLIGHT
BEGIN:STANDARD
TZOFFSETFROM:+0200
TZOFFSETTO:+0100
TZNAME:CET
DTSTART:20251026T010000
END:STANDARD
END:VTIMEZONE
BEGIN:VEVENT
DTSTART;TZID=Europe/Paris:20240501T103000
DTEND;TZID=Europe/Paris:20240501T133000
DTSTAMP:20260422T201609
CREATED:20240404T123631Z
LAST-MODIFIED:20240404T123631Z
UID:7141-1714559400-1714570200@frankfurtmain.vvn-bda.de
SUMMARY:1. Mai-Demonstration
DESCRIPTION:Demonstration von der Hauptwache zum Römerberg unter dem Motto: „Mehr Lohn. Mehr Freizeit. Mehr Sicherheit.“ \nAuf der Kundgebung am Römerberg sprechen ab 12.00  zum Tag der Arbeit:\nRenate Sternatz\, Stellv. Vorsitzende DGB Hessen-Thüringen\nOberbürgermeister Mike Josef\nPhilipp Jacks\, Frankfurter DGB-Vorsitzender\nPia Möller und Jonas Rödl\, DGB-Jugend \nMusik: Gastone (Balkan/Folklore/Pop/Polka/Ska) \nAußerdem wird es Infostände\, Essen und Getränke sowie ein Spielmobil geben. \nWeitere Info und Flyer unter: https://frankfurt-rhein-main.dgb.de/termine/++co++046b383a-e12e-11ee-a21f-9fe0c07cac37
URL:https://frankfurtmain.vvn-bda.de/event/1-mai-demonstration/
END:VEVENT
BEGIN:VEVENT
DTSTART;TZID=Europe/Paris:20240508T173000
DTEND;TZID=Europe/Paris:20240508T193000
DTSTAMP:20260422T201609
CREATED:20240404T124431Z
LAST-MODIFIED:20240404T124431Z
UID:7144-1715189400-1715196600@frankfurtmain.vvn-bda.de
SUMMARY:Tag der Befreiung – Demokratie verteidigen – rechte Gefahren bekämpfen
DESCRIPTION:Jede und jeder ist eingeladen\, sich am Tag der Befreiung zu beteiligen: Leg am 8. Mai eine Blume an einem Stolperstein oder an einem Gedenkort nieder. Gedenkobjekte: https://www.frankfurt1933-1945.de/topografie/aktueller-plan/filterthemaaktuell/gedenken\nStolpersteine: https://www.stolpersteine-frankfurt.de/de/dokumentation \nAblauf:\n17:30 Uhr – Auftakt: Kranzniederlegung an der Paulskirche  > > > 18:00 Uhr – Demonstration von der Berliner Straße über die Hauptwache zur Friedensbrücke  > > > 18:45 Uhr – Abschlusskundgebung am Brückenpfeiler mit dem Graffiti für die Opfer der Hanau-Morde \nWeitere Infos\, kompletter Aufruf und Link zum Flyer unter: https://frankfurtmain.vvn-bda.de/8-mai-2024/
URL:https://frankfurtmain.vvn-bda.de/event/tag-der-befreiung-demokratie-verteidigen-rechte-gefahren-bekaempfen/
END:VEVENT
BEGIN:VEVENT
DTSTART;TZID=Europe/Paris:20240510T160000
DTEND;TZID=Europe/Paris:20240510T180000
DTSTAMP:20260422T201609
CREATED:20240415T133306Z
LAST-MODIFIED:20240418T135300Z
UID:7188-1715356800-1715364000@frankfurtmain.vvn-bda.de
SUMMARY:Gedenklesung anlässlich der Bücherverbrennung in Frankfurt
DESCRIPTION:Wir nehmen den Jahrestag der Bücherverbrennung auch in diesem Jahr zum Anlass\, an die faschistischen Verbrechen zu erinnern und auf die Gefahr der Wiederholung aufmerksam zu machen. \nLink zum Flyer: KLICK \nUnsere kleine Dokumentation der Ereignisse vom 10. Mai 1933 findest Du hier: https://frankfurtmain.vvn-bda.de/buecherverbrennung-10-mai-1933/
URL:https://frankfurtmain.vvn-bda.de/event/gedenklesung-anlaesslich-der-buecherverbrennung-in-frankfurt/
LOCATION:Römerberg\, Römerberg\, 60311 Frankfurt
END:VEVENT
BEGIN:VEVENT
DTSTART;TZID=Europe/Paris:20240522T190000
DTEND;TZID=Europe/Paris:20240522T203000
DTSTAMP:20260422T201609
CREATED:20240415T133715Z
LAST-MODIFIED:20240415T133715Z
UID:7192-1716404400-1716409800@frankfurtmain.vvn-bda.de
SUMMARY:Stammtisch der VVN-BdA Frankfurt
DESCRIPTION:Wir laden euch herzlich zu unserem Stammtisch ein! Wir treffen uns im Club Voltaire und freuen uns\, wenn ihr vorbeischaut\, um einfach ins Gespräch zu kommen…
URL:https://frankfurtmain.vvn-bda.de/event/stammtisch-der-vvn-bda-frankfurt-5/
LOCATION:Club Voltaire\, Kleine Hochstr. 5\, 60313 Frankfurt
END:VEVENT
BEGIN:VEVENT
DTSTART;TZID=Europe/Paris:20240525T140000
DTEND;TZID=Europe/Paris:20240525T170000
DTSTAMP:20260422T201609
CREATED:20240515T104044Z
LAST-MODIFIED:20240515T104044Z
UID:7385-1716645600-1716656400@frankfurtmain.vvn-bda.de
SUMMARY:Fest der Demokratie – 75 Jahre Grundgesetz
DESCRIPTION:Link: https://omasgegenrechts-ffm.de/veranstaltung/fest-der-demokratie/
URL:https://frankfurtmain.vvn-bda.de/event/fest-der-demokratie-75-jahre-grundgesetz/
LOCATION:Römerberg\, Römerberg\, 60311 Frankfurt
END:VEVENT
BEGIN:VEVENT
DTSTART;TZID=Europe/Paris:20240526T140000
DTEND;TZID=Europe/Paris:20240526T160000
DTSTAMP:20260422T201609
CREATED:20240415T135223Z
LAST-MODIFIED:20240415T135223Z
UID:7194-1716732000-1716739200@frankfurtmain.vvn-bda.de
SUMMARY:Internationaler Treff von Nachkommen Verfolgter des Faschismus
DESCRIPTION:Bei den Treffen von Nachkommen Verfolgter des Faschismus geht es um den Austausch über die eigenen familiären Verfolgungsgeschichten und um gegenseitige Unterstützung beim Recherchieren und Aufschreiben. Und es geht darum\, was die persönlichen Geschichten für uns bedeuten und wie wir uns vor diesem Hintergrund in politische Auseinandersetzungen einbringen. Wir freuen uns über weitere Menschen\, die dazukommen.
URL:https://frankfurtmain.vvn-bda.de/event/internationaler-treff-von-nachkommen-verfolgter-des-faschismus-2/
LOCATION:Brotfabrik\, Bachmannstraße 2-4\, 60488 Frankfurt
END:VEVENT
BEGIN:VEVENT
DTSTART;TZID=Europe/Paris:20240529T170000
DTEND;TZID=Europe/Paris:20240529T190000
DTSTAMP:20260422T201609
CREATED:20240515T093612Z
LAST-MODIFIED:20240515T093612Z
UID:7376-1717002000-1717009200@frankfurtmain.vvn-bda.de
SUMMARY:Hülya-Tag – Gedenken an Brandanschlag in Solingen
DESCRIPTION:Gedenken zum Jahrestag des Brandanschlags auf die Familie Genç in Solingen \nAm 29. Mai 1993 wurde in Solingen die aus der Türkei stammende Familie Genç Opfer eines Brandanschlages von vier jungen Deutschen\, die größtenteils zur Skinhead-Szene gehörten. Zwei Frauen und drei Mädchen\, darunter die 9-jährige Hülya\, starben. Vierzehn weitere Familienmitglieder erlitten zum Teil lebensgefährliche Verletzungen. Der Solinger Anschlag war 1993 der Höhepunkt einer Welle rassistischer Anschläge auf Migrant*innen in Deutschland. Im Jahr 1998 wurde in Bockenheim mit dem Hülya-Platz zum ersten Mal ein Platz nach einem Opfer von Neonazis benannt. \n31 Jahre nach dem Anschlag\, am Mittwoch\, dem 29. Mai 2024 ab 17:00 Uhr gedenken wir der Toten und Verletzten von Solingen und auch der vielen Menschen\, die in diesem Land Opfer von rassistischen Angriffen\, Beleidigungen\, Erniedrigungen\, Denunziationen geworden sind.  \nIn Redebeiträgen erinnern wir an diese Anschläge und Pogrome – z.B. an Rostock-Lichtenhagen und Mölln in den 90er Jahren\, an die Mordserie des NSU und die Morde von Hanau im Jahre 2020 –\, thematisieren die Haltung staatlicher Organe und zeigen Möglichkeiten auf\, wie wir alle Formen von Rassismus und Diskriminierung in dieser Gesellschaft bekämpfen können. \nWir wissen\, dass unser Zusammenleben nur gemeinsam und unabhängig von unserer Herkunft\, Geschlecht und den Religionszugehörigkeiten gelingen kann. Dafür müssen wir all unsere Kraft bündeln! \nWeitere Infos: https://hülya-platz.de/ \n 
URL:https://frankfurtmain.vvn-bda.de/event/huelya-tag-gedenken-an-brandanschlag-in-solingen/
LOCATION:Hülya-Platz\, Hülya-Platz\, 60487 Frankfurt
END:VEVENT
END:VCALENDAR