BEGIN:VCALENDAR
VERSION:2.0
PRODID:-//Vereinigung der Verfolgten des Naziregimes - ECPv6.15.20//NONSGML v1.0//EN
CALSCALE:GREGORIAN
METHOD:PUBLISH
X-ORIGINAL-URL:https://frankfurtmain.vvn-bda.de
X-WR-CALDESC:Veranstaltungen für Vereinigung der Verfolgten des Naziregimes
REFRESH-INTERVAL;VALUE=DURATION:PT1H
X-Robots-Tag:noindex
X-PUBLISHED-TTL:PT1H
BEGIN:VTIMEZONE
TZID:Europe/Paris
BEGIN:DAYLIGHT
TZOFFSETFROM:+0100
TZOFFSETTO:+0200
TZNAME:CEST
DTSTART:20230326T010000
END:DAYLIGHT
BEGIN:STANDARD
TZOFFSETFROM:+0200
TZOFFSETTO:+0100
TZNAME:CET
DTSTART:20231029T010000
END:STANDARD
BEGIN:DAYLIGHT
TZOFFSETFROM:+0100
TZOFFSETTO:+0200
TZNAME:CEST
DTSTART:20240331T010000
END:DAYLIGHT
BEGIN:STANDARD
TZOFFSETFROM:+0200
TZOFFSETTO:+0100
TZNAME:CET
DTSTART:20241027T010000
END:STANDARD
BEGIN:DAYLIGHT
TZOFFSETFROM:+0100
TZOFFSETTO:+0200
TZNAME:CEST
DTSTART:20250330T010000
END:DAYLIGHT
BEGIN:STANDARD
TZOFFSETFROM:+0200
TZOFFSETTO:+0100
TZNAME:CET
DTSTART:20251026T010000
END:STANDARD
END:VTIMEZONE
BEGIN:VEVENT
DTSTART;TZID=Europe/Paris:20240809T170000
DTEND;TZID=Europe/Paris:20240809T190000
DTSTAMP:20260422T165648
CREATED:20240718T140558Z
LAST-MODIFIED:20240718T140558Z
UID:7535-1723222800-1723230000@frankfurtmain.vvn-bda.de
SUMMARY:Gedenken an die Atombombenabwürfe auf Hiroshima und Nagasaki
DESCRIPTION:
URL:https://frankfurtmain.vvn-bda.de/event/gedenken-an-die-atombombenabwuerfe-auf-hiroshima-und-nagasaki/
LOCATION:Paulsplatz\, Paulsplatz\, 60311 Frankfurt\, Germany
END:VEVENT
BEGIN:VEVENT
DTSTART;TZID=Europe/Paris:20240815T190000
DTEND;TZID=Europe/Paris:20240815T210000
DTSTAMP:20260422T165648
CREATED:20240718T135704Z
LAST-MODIFIED:20240718T135704Z
UID:7530-1723748400-1723755600@frankfurtmain.vvn-bda.de
SUMMARY:antifa Film: Hitlers Hollywood (BRD\, 2017\, 101 Min.)
DESCRIPTION:Was weiß das Kino\, was wir nicht wissen? Über 1000 Spielfilme wurden in den Jahren 1933-1945 in Deutschland hergestellt. Bei den wenigsten handelt es sich um offene Propaganda\, sondern sie erscheinen als harmlose Unterhaltung. Das nationalsozialistische Kino war staatlich gelenkt. Zugleich wollte es „großes Kino“ sein. Eine deutsche Traumfabrik. Die NS-Filme waren nicht nur technisch perfekt gemacht\, sie waren emotional; sie weckten Sehnsüchte\, ließen träumen\, boten Zuflucht. Das Kino war industriell vorgefertigt und manipulativ. Millionen gingen seinerzeit ins Kino. Welche Träume träumten die Deutschen in ihrer ureigenen germanischen Traumfabrik? Wovon sollten sie träumen\, wenn es nach den Machthabern ging? Wie funktioniert Propaganda? \nMit Einleitung und anschließendem Filmgespräch. \nDie Filmreihe wird veranstaltet von: VVN-BdA Frankfurt\, A.N.P.I. Frankfurt\, Dritte Welt Haus; in Kooperation mit: Elferclub \nFlyer mit weiteren Vorführungen: KLICK
URL:https://frankfurtmain.vvn-bda.de/event/antifa-film-hitlers-hollywood-brd-2017-101-min-2/
LOCATION:Elfer Music Club\, Kleine Rittergasse 14-20\, 60594 Frankfurt
END:VEVENT
BEGIN:VEVENT
DTSTART;TZID=Europe/Paris:20240829T190000
DTEND;TZID=Europe/Paris:20240829T210000
DTSTAMP:20260422T165648
CREATED:20240718T140833Z
LAST-MODIFIED:20240718T140833Z
UID:7538-1724958000-1724965200@frankfurtmain.vvn-bda.de
SUMMARY:antifa Film: Auf Wiedersehen\, Kinder (FR\, 1987\, 104 Min.)
DESCRIPTION:„Solange ich lebe\, werde ich mich an die Ereignisse dieses Morgens erinnern.“ Es ist die Off-Stimme von Regisseur Louis Malle\, der diese Worte in der allerletzten Einstellung seines Films spricht. Der Film erzählt die Geschichte der Schüler Julien und Jean\, die nach anfänglichem Zögern eine umso intensivere Freundschaft schließen\, die aber von Jeans lebensgefährlichem Geheimnis überschattet wird. Malles Film\, der seine Rückkehr in die französische Filmindustrie nach zehn Jahren in Hollywood markierte\, gilt als einer der Höhepunkte in seinem Schaffen und basiert auf einer wahren Begebenheit aus seiner Kindheit im Jahr 1944\, als er im Alter von elf Jahren das Internat Petit Collège in Avon bei Fontainebleau besuchte. \nMit Einleitung und anschließendem Filmgespräch. \nDie Filmreihe wird veranstaltet von: VVN-BdA Frankfurt\, A.N.P.I. Frankfurt\, Dritte Welt Haus; in Kooperation mit: Elferclub\nFlyer mit weiteren Vorführungen: KLICK
URL:https://frankfurtmain.vvn-bda.de/event/antifa-film-auf-wiedersehen-kinder-fr-1987-104-min/
LOCATION:Elfer Music Club\, Kleine Rittergasse 14-20\, 60594 Frankfurt
END:VEVENT
END:VCALENDAR