BEGIN:VCALENDAR
VERSION:2.0
PRODID:-//Vereinigung der Verfolgten des Naziregimes - ECPv6.15.20//NONSGML v1.0//EN
CALSCALE:GREGORIAN
METHOD:PUBLISH
X-WR-CALNAME:Vereinigung der Verfolgten des Naziregimes
X-ORIGINAL-URL:https://frankfurtmain.vvn-bda.de
X-WR-CALDESC:Veranstaltungen für Vereinigung der Verfolgten des Naziregimes
REFRESH-INTERVAL;VALUE=DURATION:PT1H
X-Robots-Tag:noindex
X-PUBLISHED-TTL:PT1H
BEGIN:VTIMEZONE
TZID:Europe/Paris
BEGIN:DAYLIGHT
TZOFFSETFROM:+0100
TZOFFSETTO:+0200
TZNAME:CEST
DTSTART:20230326T010000
END:DAYLIGHT
BEGIN:STANDARD
TZOFFSETFROM:+0200
TZOFFSETTO:+0100
TZNAME:CET
DTSTART:20231029T010000
END:STANDARD
BEGIN:DAYLIGHT
TZOFFSETFROM:+0100
TZOFFSETTO:+0200
TZNAME:CEST
DTSTART:20240331T010000
END:DAYLIGHT
BEGIN:STANDARD
TZOFFSETFROM:+0200
TZOFFSETTO:+0100
TZNAME:CET
DTSTART:20241027T010000
END:STANDARD
BEGIN:DAYLIGHT
TZOFFSETFROM:+0100
TZOFFSETTO:+0200
TZNAME:CEST
DTSTART:20250330T010000
END:DAYLIGHT
BEGIN:STANDARD
TZOFFSETFROM:+0200
TZOFFSETTO:+0100
TZNAME:CET
DTSTART:20251026T010000
END:STANDARD
END:VTIMEZONE
BEGIN:VEVENT
DTSTART;TZID=Europe/Paris:20240907T073000
DTEND;TZID=Europe/Paris:20240907T093000
DTSTAMP:20260422T154344
CREATED:20240902T092230Z
LAST-MODIFIED:20240902T092230Z
UID:7608-1725694200-1725701400@frankfurtmain.vvn-bda.de
SUMMARY:Gemeinsam widersetzen –  den AfD-Landesparteitag verderben! 
DESCRIPTION:Den AfD Faschist*innen muss jeglicher Raum genommen werden. Daher werden wir am 7. September in Hofheim am Taunus mit bunten\, kreativen Aktionen dem hessischen AfD Landesparteitag entgegenwirken. Wir treffen uns um 7.30 Uhr am Ambetbrunnen. Zusammen machen wir klar\, keine Treffen von Faschist*innen in Rhein-Main! Die AfD ist eine faschistische Partei. Sie steht für Rassismus\, Antifeminismus Queerfeindlichkeit\, Behindertenfeidlichkeit/Ableismus\, Antisemitismus und Leugnung der Verbrechen des Nationalsozialismus. Ihre Positionen zu sozialen und ökologischen Fragen sind existenzbedrohend. Die AfD greift das Prinzip der Menschenwürde frontal an. Mit ihren menschenfeindlichen Positionen dringt die Propaganda der AfD bis in die Mitte der Gesellschaft vor. Fast alle im Bundestag vertretenen Parteien bedienen sich mittlerweile bei den Themen\, die von der AfD geliefert werden. Die Faschist*innen der AfD sprechen von bis zu 25 Millionen Menschen\, die aus der Bundesrepublik mit „wohltemperierten Grausamkeiten“ entfernt werden sollen. Wurden aus der Bundesrepublik bisher jährlich etwas mehr als zehntausend Menschen „rückgeführt“\, fordern die Regierungsparteien und die Union jetzt populistisch diese Zahlen prozentual wesentlich zu erhöhen. Die Übernahme solcher menschenfeindlicher Themensetzungen hat jedoch fatale Folgen. Menschenverachtende Ideen und menschenfeindliche Entscheidungen werden in der Gesellschaft verfestigt. Ausgrenzung und Entwertung anderer Menschen darf niemals die Antwort auf reale oder vermeintliche Krisen sein. Gegen die von CORRECTIV enthüllten bürgerkriegsähnlichen Szenarien der Faschist*innen der AfD und ihrer Sympathisant*innen gingen in den ersten Monaten dieses Jahres Millionen Menschen auf die Straße. Die AfD verlor in den Meinungsumfragen fast ein Drittel ihrer Zustimmung. Das reicht nicht aus. Kommt alle am 07.09.2024 nach Hofheim!
URL:https://frankfurtmain.vvn-bda.de/event/gemeinsam-widersetzen-den-afd-landesparteitag-verderben/
END:VEVENT
BEGIN:VEVENT
DTSTART;TZID=Europe/Paris:20240908T140000
DTEND;TZID=Europe/Paris:20240908T160000
DTSTAMP:20260422T154344
CREATED:20240718T141304Z
LAST-MODIFIED:20240718T141304Z
UID:7540-1725804000-1725811200@frankfurtmain.vvn-bda.de
SUMMARY:Internationaler Treff von Nachkommen Verfolgter des Faschismus
DESCRIPTION:Bei den Treffen von Nachkommen Verfolgter des Faschismus geht es um den Austausch über die eigenen familiären Verfolgungsgeschichten und um gegenseitige Unterstützung beim Recherchieren und Aufschreiben. Und es geht darum\, was die persönlichen Geschichten für uns bedeuten und wie wir uns vor diesem Hintergrund in politische Auseinandersetzungen einbringen. Wir freuen uns über weitere Menschen\, die dazukommen.\nDieses Mal wird Katharina Pysmenna über die Arbeit des „Bundesverbands Information und Beratung für NS-Verfolgte“ berichten. Schwerpunkt ihres Berichts wird die historisch-politische Bildungsarbeit des Verbands sein.
URL:https://frankfurtmain.vvn-bda.de/event/internationaler-treff-von-nachkommen-verfolgter-des-faschismus-3/
LOCATION:Brotfabrik\, Bachmannstraße 2-4\, 60488 Frankfurt
END:VEVENT
BEGIN:VEVENT
DTSTART;TZID=Europe/Paris:20240915T190000
DTEND;TZID=Europe/Paris:20240915T210000
DTSTAMP:20260422T154344
CREATED:20240718T141450Z
LAST-MODIFIED:20240718T141450Z
UID:7542-1726426800-1726434000@frankfurtmain.vvn-bda.de
SUMMARY:antifa Film: Die Schüler der Madam Anne (FR\, 2014\, 105 Min.)
DESCRIPTION:Anne Gueguen ist Geschichtslehrerin und übernimmt eine 11. Klasse am Leon-Blum-Gymnasium in einem Pariser Brennpunkt. Für die Pädagogin bedeuten die Schüler dieser Klasse eine echte Herausforderung\, denn in der Schule tragen sie ihre persönlichen und kulturellen Konflikte aus\, wohl wissend\, dass sich in der Welt dort draußen niemand für sie interessiert und ihre Zukunft wenig rosig aussieht. So wird das Klassenzimmer zur Bühne ihrer Aggressionen\, doch Madame Gueguen weiß\, dass mehr in den Kindern schlummert\, als sie sich selbst eingestehen. Sie meldet ihre Schüler für einen renommierten Wettbewerb zum Thema der französischen Résistance an und weckt in ihnen den Willen\, etwas zu lernen – über die Geschichte Frankreichs und über sich selbst. \nMit Einleitung und anschließendem Filmgespräch. \nDie Filmreihe wird veranstaltet von: VVN-BdA Frankfurt\, A.N.P.I. Frankfurt\, Dritte Welt Haus; in Kooperation mit: Club Voltaire \nFlyer mit weiteren Vorführungen: KLICK \n 
URL:https://frankfurtmain.vvn-bda.de/event/antifa-film-die-schueler-der-madam-anne-fr-2014-105-min/
LOCATION:Club Voltaire\, Kleine Hochstr. 5\, 60313 Frankfurt
END:VEVENT
BEGIN:VEVENT
DTSTART;TZID=Europe/Paris:20240919T190000
DTEND;TZID=Europe/Paris:20240919T210000
DTSTAMP:20260422T154344
CREATED:20240729T122555Z
LAST-MODIFIED:20240807T111348Z
UID:7546-1726772400-1726779600@frankfurtmain.vvn-bda.de
SUMMARY:antifa Erzählcafé: Der Anteil der Industrie am Krieg früher und heute – Vortrag von Ulrich Sander
DESCRIPTION:Ulrich Sander erforscht seit vielen Jahren die Beteiligung der Industrie an den Kriegsverbrechen. „Von Arisierung bis Zwangsarbeit. Verbrechen der Wirtschaft an Rhein und Ruhr 1933-1945“ heißt auch seine Veröffentlichung im Papyrossa Verlag\, Köln 2012.\nEr ist Sprecher der VVN-Initiative „Verbrechen der Wirtschaft“ (zur Kennzeichnung und Entlarvung der Tätigkeit der ökonomischen Eliten in der NS-Zeit). An diesem Abend wird er über seine umfängliche Arbeit auf diesem Feld sprechen.\nUlrich Sander\, Jahrgang 1941\, wuchs in sog. kleinen Verhältnissen auf. Nach der Ausbildung zum Verlagskaufmann arbeitete er als Journalist und Redakteur\, zuletzt beim Pressebüro gegen Rassismus in Köln\, als wissenschaftlicher Mitarbeiter zur statistischen Aufarbeitung der NS-Zwangsarbeit beim Heimatverein Lüdenscheid und als ehrenamtlicher Landesgeschäftsführer der VVN-BdA NRW. 1988 war Sander Mitbegründer der Initiativgruppe für die Rehabilitierung der Opfer des Kalten Krieges. Seit 1968 lebt er in Dortmund.
URL:https://frankfurtmain.vvn-bda.de/event/antifa-erzaehlcafe-der-anteil-der-industrie-am-krieg-frueher-und-heute-vortrag-von-ulrich-sander/
LOCATION:Club Voltaire\, Kleine Hochstr. 5\, 60313 Frankfurt
END:VEVENT
BEGIN:VEVENT
DTSTART;TZID=Europe/Paris:20240922T190000
DTEND;TZID=Europe/Paris:20240922T210000
DTSTAMP:20260422T154344
CREATED:20240718T141659Z
LAST-MODIFIED:20240718T141659Z
UID:7544-1727031600-1727038800@frankfurtmain.vvn-bda.de
SUMMARY:antifa Film: Zeit des Schweigens und der Dunkelheit (BRD\, 1982\, 60 Min.)
DESCRIPTION:In ihrem Film „Tiefland“ setzte Leni Riefenstahl\, die in den 1930er Jahren durch Filme über NS-Parteitage und die Berliner Olympiade bekannt wurde\, Sinti und Roma als Kompars*innen ein. Sie waren im Zwischenlager Maxglan in der Nähe von Salzburg interniert und wurden später nach Auschwitz deportiert. Die Regisseurin Nina Gladitz fand überlebende Darsteller*innen\, die sich erinnern\, wie Riefenstahl sie im Lager ausgesucht und ohne Entlohnung für die Dreharbeiten zwangsverpflichtet hatte. Gerade durch Interviews mit ihnen stellt Gladitzs Film ein wichtiges Zeitzeugnis dar. Nach der Fernsehausstrahlung verklagte Riefenstahl Gladitz. Die Klage wurde in drei von vier Punkten zurückgewiesen. Gladitz nahm keine Neubearbeitung vor\, der Film verschwand im Archiv und sie bekam keine Aufträge von ARD-Sendern mehr. \nMit Einleitung und anschließendem Filmgespräch mit der Filmhistorikerin und Kuratorin Vivien Buchhorn. \nDie Filmreihe wird veranstaltet von: VVN-BdA Frankfurt\, A.N.P.I. Frankfurt\, Dritte Welt Haus; in Kooperation mit: Club Voltaire \nFlyer mit weiteren Vorführungen: KLICK
URL:https://frankfurtmain.vvn-bda.de/event/antifa-film-zeit-des-schweigens-und-der-dunkelheit-brd-1982-60-min/
LOCATION:Club Voltaire\, Kleine Hochstr. 5\, 60313 Frankfurt
END:VEVENT
END:VCALENDAR