BEGIN:VCALENDAR
VERSION:2.0
PRODID:-//Vereinigung der Verfolgten des Naziregimes - ECPv6.15.20//NONSGML v1.0//EN
CALSCALE:GREGORIAN
METHOD:PUBLISH
X-ORIGINAL-URL:https://frankfurtmain.vvn-bda.de
X-WR-CALDESC:Veranstaltungen für Vereinigung der Verfolgten des Naziregimes
REFRESH-INTERVAL;VALUE=DURATION:PT1H
X-Robots-Tag:noindex
X-PUBLISHED-TTL:PT1H
BEGIN:VTIMEZONE
TZID:Europe/Paris
BEGIN:DAYLIGHT
TZOFFSETFROM:+0100
TZOFFSETTO:+0200
TZNAME:CEST
DTSTART:20230326T010000
END:DAYLIGHT
BEGIN:STANDARD
TZOFFSETFROM:+0200
TZOFFSETTO:+0100
TZNAME:CET
DTSTART:20231029T010000
END:STANDARD
BEGIN:DAYLIGHT
TZOFFSETFROM:+0100
TZOFFSETTO:+0200
TZNAME:CEST
DTSTART:20240331T010000
END:DAYLIGHT
BEGIN:STANDARD
TZOFFSETFROM:+0200
TZOFFSETTO:+0100
TZNAME:CET
DTSTART:20241027T010000
END:STANDARD
BEGIN:DAYLIGHT
TZOFFSETFROM:+0100
TZOFFSETTO:+0200
TZNAME:CEST
DTSTART:20250330T010000
END:DAYLIGHT
BEGIN:STANDARD
TZOFFSETFROM:+0200
TZOFFSETTO:+0100
TZNAME:CET
DTSTART:20251026T010000
END:STANDARD
END:VTIMEZONE
BEGIN:VEVENT
DTSTART;TZID=Europe/Paris:20241013T190000
DTEND;TZID=Europe/Paris:20241013T210000
DTSTAMP:20260422T142927
CREATED:20240918T123716Z
LAST-MODIFIED:20240923T133838Z
UID:7640-1728846000-1728853200@frankfurtmain.vvn-bda.de
SUMMARY:Antifaschistische Filmreihe: Incident at Oglala – Zwischenfall in Oglala (USA\, 1991\, 86 Min.)
DESCRIPTION:„Incident at Oglala“ ist eine Doku von Michael Apted und wird von Robert Redford erzählt. Im Juni 1975 wurden im Pine Ridge Reservat zwei FBI-Agenten und ein junger Indigener erschossen. Als mutmaßlichen Mörder der Agenten machten die Behörden den indigenen politischen Aktivisten Leonard Peltier aus. Seit über 48 Jahren ist Peltier immer noch in Haft\, obwohl Recherchen von Bürgerrechtlern ergeben haben\, dass Peltier mit großer Wahrscheinlichkeit nicht der Täter war. Ein Film als flammender Aufruf\, die Not und Diskriminierung nicht zu vergessen\, denen die nordamerikanischen Ureinwohner auch heute noch ausgeliefert sind. Peltiers Anhänger\, einschließlich des International Indian Treaty Council\, behaupten er sei unschuldig an den Verbrechen. \nMit Einleitung und anschließendem Filmgespräch. Referent: Michel Koch von „Leonard Peltier Solidarität“
URL:https://frankfurtmain.vvn-bda.de/event/antifaschistische-filmreihe-incident-at-oglala-zwischenfall-in-oglala-usa-1991-86-min/
LOCATION:Club Voltaire\, Kleine Hochstr. 5\, 60313 Frankfurt
END:VEVENT
BEGIN:VEVENT
DTSTART;TZID=Europe/Paris:20241016T190000
DTEND;TZID=Europe/Paris:20241016T210000
DTSTAMP:20260422T142927
CREATED:20240911T165235Z
LAST-MODIFIED:20240911T165235Z
UID:7632-1729105200-1729112400@frankfurtmain.vvn-bda.de
SUMMARY:„Ihr wisst nicht\, wo mein Mut endet“ – Buchvorstellung mit Florence Hervé
DESCRIPTION:Sie kamen aus mehr als zwanzig europäischen Ländern\, aus dem faschistischen Deutschland\, aus besetzten und nicht besetzten Regionen. Und sie widersetzten sich der Terrorherrschaft des deutschen Faschismus und dem Krieg. Sie haben für die Werte der Freiheit\, des Friedens\, der Menschenwürde und der Solidarität gekämpft\, ihr Leben riskiert\, und zur Befreiung vom deutschen Faschismus beigetragen. Dabei haben sich viele unter ihnen von traditionellen Geschlechterrollen befreit. \nDiese Frauen machen Mut für das heutige Auftreten gegen Neofaschismus\, Rechtspopulismus\, Fremdenhass\, Sexismus und Krieg. \nDr. Florence Hervé\, französisch-deutsche Autorin\, stellt ihr neues Buch vor: „Ihr wisst nicht\, wo mein Mut endet“ (2024). Sie war bereits Herausgeberin von „Mit Mut und List“ (3. Aufl. 2023). Sie erinnert an den oft unsichtbaren Frauenwiderstand in Europa\, und stellt einige dieser couragierten Widerstandskämpferinnen vor.\nSie ist Mitherausgeberin des seit 1979 erscheinenden Taschenkalenders „Wir Frauen“.\nAls sie 2014 das Bundesverdienstkreuz erhalten sollte\, verzichtete sie darauf – u.a. mit dem Hinweis auf eine unzureichende Bekämpfung von Neonazismus und Rassismus sowie auf eine ungenügende Anerkennung des antifaschistischen Widerstands.
URL:https://frankfurtmain.vvn-bda.de/event/ihr-wisst-nicht-wo-mein-mut-endet-buchvorstellung-mit-florence-herve/
LOCATION:Club Voltaire\, Kleine Hochstr. 5\, 60313 Frankfurt
END:VEVENT
END:VCALENDAR