BEGIN:VCALENDAR
VERSION:2.0
PRODID:-//Vereinigung der Verfolgten des Naziregimes - ECPv6.15.20//NONSGML v1.0//EN
CALSCALE:GREGORIAN
METHOD:PUBLISH
X-WR-CALNAME:Vereinigung der Verfolgten des Naziregimes
X-ORIGINAL-URL:https://frankfurtmain.vvn-bda.de
X-WR-CALDESC:Veranstaltungen für Vereinigung der Verfolgten des Naziregimes
REFRESH-INTERVAL;VALUE=DURATION:PT1H
X-Robots-Tag:noindex
X-PUBLISHED-TTL:PT1H
BEGIN:VTIMEZONE
TZID:Europe/Paris
BEGIN:DAYLIGHT
TZOFFSETFROM:+0100
TZOFFSETTO:+0200
TZNAME:CEST
DTSTART:20230326T010000
END:DAYLIGHT
BEGIN:STANDARD
TZOFFSETFROM:+0200
TZOFFSETTO:+0100
TZNAME:CET
DTSTART:20231029T010000
END:STANDARD
BEGIN:DAYLIGHT
TZOFFSETFROM:+0100
TZOFFSETTO:+0200
TZNAME:CEST
DTSTART:20240331T010000
END:DAYLIGHT
BEGIN:STANDARD
TZOFFSETFROM:+0200
TZOFFSETTO:+0100
TZNAME:CET
DTSTART:20241027T010000
END:STANDARD
BEGIN:DAYLIGHT
TZOFFSETFROM:+0100
TZOFFSETTO:+0200
TZNAME:CEST
DTSTART:20250330T010000
END:DAYLIGHT
BEGIN:STANDARD
TZOFFSETFROM:+0200
TZOFFSETTO:+0100
TZNAME:CET
DTSTART:20251026T010000
END:STANDARD
END:VTIMEZONE
BEGIN:VEVENT
DTSTART;TZID=Europe/Paris:20241201T190000
DTEND;TZID=Europe/Paris:20241201T210000
DTSTAMP:20260422T115637
CREATED:20241031T100510Z
LAST-MODIFIED:20241031T171403Z
UID:7697-1733079600-1733086800@frankfurtmain.vvn-bda.de
SUMMARY:Antifaschistische Filmreihe: Madrid Before Hanita – 300 Juden aus Palästina gegen Franco (ISR 2006\, R: E. Torbiner\, 58 Min.)
DESCRIPTION:Im Juli 1936 begann der Spanische Bürgerkrieg mit einem Militärputsch unter General Franco. Ab August 1936 kämpften etwa 35.000 bis 40.000 internationale Freiwillige gegen die Putschisten\, darunter rund 300 jüdische Freiwillige aus dem britischen Mandatsgebiet Palästina. Meist Kommunisten\, schlossen sie sich den Internationalen Brigaden an. In Palästina stießen sie auf Widerstand der zionistischen Gemeinschaft\, die den Aufbau eines jüdischen Staates priorisierte. Der Film von Eran Torbiner beleuchtet das Schicksal dieser Kämpfer und bietet durch Zeitzeugenberichte\, historische Filmausschnitte\, Dokumente und Briefe ein bewegendes Bild des jüdischen Engagements in Spanien 1937/38. \nMit freundlicher Unterstützung von Bear Family Records: www.bear-family.de \nMit Einleitung und anschließendem Filmgespräch. \nDas komplette Programm für die Reihe Winter 2024/25: https://antifaschistische-filmreihe-ffm.de/programm-winter-2024-2025/
URL:https://frankfurtmain.vvn-bda.de/event/madrid-before-hanita-300-juden-aus-palaestina-gegen-franco-isr-2006-r-e-torbiner-58-min/
LOCATION:Club Voltaire\, Kleine Hochstr. 5\, 60313 Frankfurt
END:VEVENT
BEGIN:VEVENT
DTSTART;TZID=Europe/Paris:20241212T190000
DTEND;TZID=Europe/Paris:20241212T210000
DTSTAMP:20260422T115637
CREATED:20241023T124438Z
LAST-MODIFIED:20241023T124438Z
UID:7686-1734030000-1734037200@frankfurtmain.vvn-bda.de
SUMMARY:antifa Erzählcafé: Günter Feldmann – Jude\, Psychologe\, Kommunist
DESCRIPTION:Lange ist es Oberbürgermeister a.D. Peter Feldmann sehr schwer gefallen\, öffentlich über seinen Vater Günter zu sprechen. Das hat sich erst im letzten Jahr mit seiner Autobiografie geändert.\nGünter Feldmann hatte ein bewegtes Leben: aufgewachsen  in Breslau\, geprägt vom säkularen und reformerischen Judentum und der Gründung der SPD von den Urgroßeltern\, verfolgt von den Nazis\, interniert im KZ\, geflüchtet nach Hamburg\, Dänemark und Schweden\, wo er sich der Exil-KPD anschloss. Nach dem Krieg wollte er voller Hoffnung ein sozialistisches Deutschland aufbauen\, zuerst in der DDR. Zweifelnd verließ er diese und suchte sein Glück in einem israelischen Kibbuz. Die Welt der Psychologen und Pädagogen erweckte seine Neugier als ehemaliger Jugendleiter. Dies konnte er in Frankfurt am Main umsetzen\, wo er Leiter der jüdischen Erziehungsberatungsstelle wurde und mit Falken und Jungsozialisten zusammenarbeitete.\nNach seinem Tod wurde im Frankfurter Ostend ein jüdisch-russisches Begegnungszentrum nach ihm benannt. \nEine Veranstaltung der VVN-BdA Frankfurt in Kooperation mit dem Club Voltaire.
URL:https://frankfurtmain.vvn-bda.de/event/antifa-erzaehlcafe-guenter-feldmann-jude-psychologe-kommunist/
LOCATION:Club Voltaire\, Kleine Hochstr. 5\, 60313 Frankfurt
END:VEVENT
BEGIN:VEVENT
DTSTART;TZID=Europe/Paris:20241214T170000
DTEND;TZID=Europe/Paris:20241214T200000
DTSTAMP:20260422T115637
CREATED:20241212T100252Z
LAST-MODIFIED:20241212T100252Z
UID:7784-1734195600-1734206400@frankfurtmain.vvn-bda.de
SUMMARY:Demonstration: Licht für Rojava – Frieden in Syrien
DESCRIPTION:Am 27. November starteten islamistische Milizen der Hayat Tahrir Al Sham (HTS) und der Syrischen Nationalarmee (SNA) einen Großangriff in Nordsyrien und nahmen weite Teile Aleppos und angrenzende Regionen ein. Auch die unter der Kontrolle der Demokratischen Selbstverwaltung Nord- und Ostsyriens (DAANES) stehenden Gebiete rund um Tel Rifat sind betroffen. Hier lebten hunderttausende Menschen\, die nach der völkerrechtswidrigen Besetzung Afrîns durch die Türkei 2018 bereits vor den Islamisten geflüchtet waren und nun erneut alles verloren haben.\nWährend deutsche Medienschaffende über vermeintliche „Rebellen“ oder gar „Oppositionelle Milizen“ berichten\, vermitteln sie den Eindruck bei der HTS und SNA würde es sich um gemäßigte Milizen handeln. Die HTS sind jedoch keine Rebellen\, sondern eine islamistisch-extremistische Miliz\, die sich aus der al-Nusra Front gebildet hat\, dem syrischen Ableger der alQaida. Wie die von der Türkei finanzierten und mit Waffen ausgestatteten Islamisten der SNA\, der viele ehemalige IS-Kämpfer angehören\, haben sie schwerste Menschenrechtsverbrechen begangen.\nDie SNA hat seit dem 27. November bereits tausende Zivilist:innen entführt und misshandelt. In den sozialen Medien verbreiten sie Videos\, in welchen sie Frauen als „Beute“ betiteln und an unbekannte Orte verschleppen. Insbesondere Kurd:innen\, Jesid:innen\, Christ:innen und andere Angehörige religiöser oder ethnischer Minderheiten fürchten die Verfolgung und Unterdrückung unter islamistischer Herrschaft und Gräueltaten\, wie sie sie zur Zeit des sogenannten Islamischen Staats erlebt haben. 50.000 Geflüchtete sind bereits in Nord- und Ostsyrien angekommen. Geschätzte 120.000 Menschen sind noch auf der Flucht und müssen ebenfalls aufgenommen und mit Zelten\, Kleidung\, Medikamenten und Nahrungsmitteln versorgt werden. Hilfsorganisationen wie der Kurdische Rote Halbmond (Heyva Sor a Kurdistanê) befürchten eine humanitäre Katastrophe\, da es an allem fehle. \nLink: KLICK
URL:https://frankfurtmain.vvn-bda.de/event/demonstration-licht-fuer-rojava-frieden-in-syrien/
LOCATION:Südbahnhof\, Südbahnhof\, 60594 Frankfurt
END:VEVENT
BEGIN:VEVENT
DTSTART;TZID=Europe/Paris:20241215T130000
DTEND;TZID=Europe/Paris:20241215T150000
DTSTAMP:20260422T115637
CREATED:20241210T154944Z
LAST-MODIFIED:20241210T154944Z
UID:7772-1734267600-1734274800@frankfurtmain.vvn-bda.de
SUMMARY:Lasst Otto ruhen! – Mahnwache beim Sockel des gestürzten Otto von Bismarck in Höchst
DESCRIPTION:In der Nacht vom 14. auf den 15. November stürzte Otto von Bismarck von seinem Sockel in Frankfurt-Höchst. Wir fragen: War er müde? Ging es ihm nicht gut? Hat er seine Missetaten endlich eingesehen?\nOtto von Bismarck zeichnete in seiner Zeit als Kanzler für die Kolonisierung afrikanischer Regionen zum Deutschen Kaiserreich verantwortlich. Weiterhin ließ er die älteste Partei Deutschlands verbieten\, sie hat ihn jedoch um über 100 Jahre überlebt und stellt momentan den Kanzler. 1888 war Bismarck mit einer Gesetzesvorlage gescheitert\, der zufolge Sozialdemokraten förmlich als Deutsche hätten ausgebürgert werden können. Diese Art von „Remigration“ kennen wir auch aus Forderungen heutiger deutscher Parteien von der extremen Rechten. Der inoffizielle Führer der AfD Björn Höcke fand in einer Rede in Erfurt 2015 das deutsche Kaiserreich sei eine „Hochzeit unseres Volkes gewesen“. Wir finden: Lasst Otto ruhen! Hoch lebe Manga Bell!\nRudolf Duala Manga Bell war Anführer des Widerstandes gegen die widerrechtliche Vertreibung der Duala aus ihren angestammten Siedlungsgebieten in der deutschen Kolonie Kamerun und wurde mit seinem Sekretär Ngoso Din am 8. August 1914 in Duala von den deutschen Kolonialherren durch Erhängen hingerichtet.
URL:https://frankfurtmain.vvn-bda.de/event/lasst-otto-ruhen-mahnwache-beim-sockel-des-gestuerzten-otto-von-bismarck-in-hoechst/
END:VEVENT
BEGIN:VEVENT
DTSTART;TZID=Europe/Paris:20241215T190000
DTEND;TZID=Europe/Paris:20241215T210000
DTSTAMP:20260422T115637
CREATED:20241031T144404Z
LAST-MODIFIED:20241031T171150Z
UID:7699-1734289200-1734296400@frankfurtmain.vvn-bda.de
SUMMARY:Antifaschistische Filmreihe: Jaffa – The Orange’s Clockwork (ISR/BRD/FRA/BEL 2009\, R: E. Sivan\, 88 Min.)
DESCRIPTION:Jahrzehntelang haben die Uhren für Araber und Juden in der palästinensischen Hafenstadt Jaffa im gleichen Takt getickt. Bis Anfang des 20. Jahrhunderts war sie das Zentrum des Orangen-Exports. Eyal Sivan hat für seine essayistische wie auch politische Spurensuche recherchiert\, wie die Jaffa-Orange zum zionistischen Symbol und Synonym für die Orange selbst wurde und sich gleichzeitig die Vorzeichen im Zusammenleben von Israelis und Palästinensern änderten. Der Film rekonstruiert anhand von wenigem Archivmaterial und Gesprächen mit Bauern sowie palästinensischen und israelischen Intellektuellen den Mythos der Jaffa-Orange. Eyal Sivan\, einer der bekanntesten israelischen Dokumentarfilmer\, nimmt uns mit auf eine faszinierende Reise des israelisch-palästinensischen Konflikts – und zwar anhand der Jaffa-Orange. \nMit anschließendem Filmgespräch DIDF-Jugend.\nDas komplette Programm für die Veranstaltungsreihe im Winter 2024/25: https://antifaschistische-filmreihe-ffm.de/programm-winter-2024-2025/
URL:https://frankfurtmain.vvn-bda.de/event/antifaschistische-filmreihe-jaffa-the-oranges-clockwork-isr-brd-fra-bel-2009-r-e-sivan-88-min/
LOCATION:Club Voltaire\, Kleine Hochstr. 5\, 60313 Frankfurt
END:VEVENT
END:VCALENDAR