BEGIN:VCALENDAR
VERSION:2.0
PRODID:-//Vereinigung der Verfolgten des Naziregimes - ECPv6.15.20//NONSGML v1.0//EN
CALSCALE:GREGORIAN
METHOD:PUBLISH
X-ORIGINAL-URL:https://frankfurtmain.vvn-bda.de
X-WR-CALDESC:Veranstaltungen für Vereinigung der Verfolgten des Naziregimes
REFRESH-INTERVAL;VALUE=DURATION:PT1H
X-Robots-Tag:noindex
X-PUBLISHED-TTL:PT1H
BEGIN:VTIMEZONE
TZID:Europe/Paris
BEGIN:DAYLIGHT
TZOFFSETFROM:+0100
TZOFFSETTO:+0200
TZNAME:CEST
DTSTART:20240331T010000
END:DAYLIGHT
BEGIN:STANDARD
TZOFFSETFROM:+0200
TZOFFSETTO:+0100
TZNAME:CET
DTSTART:20241027T010000
END:STANDARD
BEGIN:DAYLIGHT
TZOFFSETFROM:+0100
TZOFFSETTO:+0200
TZNAME:CEST
DTSTART:20250330T010000
END:DAYLIGHT
BEGIN:STANDARD
TZOFFSETFROM:+0200
TZOFFSETTO:+0100
TZNAME:CET
DTSTART:20251026T010000
END:STANDARD
BEGIN:DAYLIGHT
TZOFFSETFROM:+0100
TZOFFSETTO:+0200
TZNAME:CEST
DTSTART:20260329T010000
END:DAYLIGHT
BEGIN:STANDARD
TZOFFSETFROM:+0200
TZOFFSETTO:+0100
TZNAME:CET
DTSTART:20261025T010000
END:STANDARD
END:VTIMEZONE
BEGIN:VEVENT
DTSTART;TZID=Europe/Paris:20250904T170000
DTEND;TZID=Europe/Paris:20250904T210000
DTSTAMP:20260421T230509
CREATED:20250724T122804Z
LAST-MODIFIED:20250724T122804Z
UID:8401-1757005200-1757019600@frankfurtmain.vvn-bda.de
SUMMARY:antifa Erzählcafé: Antifaschistischer Stadtrundgang
DESCRIPTION:Die AG Antifaschistische Stadtrundgänge beim DGB Frankfurt stellt in ihrem Buch „Antifaschistische Stadtrundgänge“ Orte des Naziterrors und des Widerstandes in Frankfurt am Main vor. Im Erzählcafé der VVN-BdA soll ein Ausschnitt daraus übermittelt werden.\nZunächst suchen wir unter sachkundiger Führung von Mitgliedern der AG Orte in der Innenstadt auf\, die heute noch Zeugnis geben von den Gräueltaten der Nazizeit\, von Verfolgung\, Vertreibung und Ermordung. Aber auch von Orten aktiver Gegenwehr und entschlossenem Widerstand erfahren wir\, Biographien von Persönlichkeiten lernen wir kennen.\nDer zweite Teil der Veranstaltung findet im Club Voltaire statt. Wir fragen nach Voraussetzungen und Kontinuitäten in Staat und Zivilgesellschaft. Dabei geht es nicht nur um einen größeren Einblick in die Geschichte unserer Stadt\, sondern auch um die Frage\, was die Erkenntnisse über die damaligen Geschehnisse für unsere heutige Perspektive hinsichtlich politischer und gesellschaftlicher Handlungsanforderungen bedeuten.\nDie AG Antifaschistische Stadtgänge beim DGB Frankfurt wurde in den 1960er Jahren von ehemaligen Widerstandskämpferinnen und Überlebenden der nationalsozialistischen Gewaltherrschaft gegründet. 1979 fand die erste Rundfahrt dazu statt. Ein Ergebnis der langjährigen Zusammenarbeit ist das neue Buch\, das Interessierte kostenlos erhalten können. (Spenden erwünscht). \nDie Gruppe trifft sich zum Stadtrundgang um 17 Uhr am Willy-Brandt-Platz\, Eingang zum Schauspiel. Bis zu 15 Personen können teilnehmen. \nUm 19 Uhr startet die Diskussionsrunde im Club Voltaire\, Kleine Hochstraße 5. \nAnmeldung: an frankfurt@vvn-bda.de oder unter 0163 25 77 690\nLink zum Flyer: KLICK
URL:https://frankfurtmain.vvn-bda.de/event/antifa-erzaehlcafe-antifaschistischer-stadtrundgang/
END:VEVENT
BEGIN:VEVENT
DTSTART;TZID=Europe/Paris:20250911T190000
DTEND;TZID=Europe/Paris:20250911T210000
DTSTAMP:20260421T230509
CREATED:20250718T100258Z
LAST-MODIFIED:20250718T100258Z
UID:8388-1757617200-1757624400@frankfurtmain.vvn-bda.de
SUMMARY:Antifaschistische Filmreihe: Warrior Women (USA 2018\, R: E. Castle\, 64 Min.)
DESCRIPTION:Die Dokumentation porträtiert Frauen des indigenen Widerstands in den USA\, nicht nur bei der Besetzung von Wounded Knee\, sondern generell. Im Zentrum steht die außergewöhnlichen Aktivistin Madonna Thunder Hawk (Lakota/Sioux). Die Verknüpfung von historischen Aufnahmen mit Zeitzeugengesprächen bieten einen tiefen Einblick in die Situation der Indigenen im 20. Jahrhundert und verdeutlichen die besondere Rolle und Stärke der indigenen Frauen\, die auch mit Humor die eigene Position reflektieren. \nDer Eintritt ist frei. Einleitung und anschließendem Filmgespräch mit Dr. Michael Koch\, Tokata-LPSG RheinMain e.V..
URL:https://frankfurtmain.vvn-bda.de/event/antifaschistische-filmreihe-warrior-women-usa-2018-r-e-castle-64-min/
LOCATION:Elfer Music Club\, Kleine Rittergasse 14-20\, 60594 Frankfurt
END:VEVENT
BEGIN:VEVENT
DTSTART;TZID=Europe/Paris:20250911T203000
DTEND;TZID=Europe/Paris:20250911T223000
DTSTAMP:20260421T230509
CREATED:20250814T134245Z
LAST-MODIFIED:20250814T134245Z
UID:8414-1757622600-1757629800@frankfurtmain.vvn-bda.de
SUMMARY:Film: Kinder 1945 – Zeitzeuginnen 2025 (BRD 2025\, R.: R. Waitz\, 80 Min.)
DESCRIPTION:Krieg gehört zu den schlimmsten Erlebnissen überhaupt\, für Kinder jedoch in besonderem Maße. Im Film erinnern sich die Zeitzeug*innen aus Frankfurt\, Offenbach und der Region an ihre Kindheit vor 80 Jahren. Sie berichten auch über den Schulbesuch\, das Spielen in den Trümmern und schildern alltägliche Probleme\, wie z.B. die Lebensmittelbeschaffung. Dadurch wird der permanente Ausnahmezustand eines Lebens im Krieg deutlich. In den Gesprächen erfahren wir aber nicht nur über die Gräuel und Bedrohungen\, sondern auch über Unbeschwertes\, das mit den Grauen des Krieges kontrastiert. Der Film zeigt neben den Interviews die Orte von denen sie erzählen\, heute und damals\, anhand von Archivaufnahmen. Keine Erinnerung gleicht der anderen. Bei allen Erzähler*innen zeigt sich klar die Parteinahme für den Frieden. Mehr oder weniger deutlich formulieren sie\, dass sie uns Nachgeborenen solche Erlebnisse ersparen möchten.\nAnschließend Diskussion mit Rebekka Waitz\, Aktiven der Offenbacher Friedensinitiative und nach Möglichkeit mit den Zeitzeug*innen. \nDer Film ist produziert von: VVN-BdA Frankfurt und Offenbacher Friedensinitiative\nLink: https://filmforum-hoechst.com/uebersicht/
URL:https://frankfurtmain.vvn-bda.de/event/film-kinder-1945-zeitzeuginnen-2025-brd-2025-r-r-waitz-80-min/
LOCATION:Filmforum Höchst\, Emmerich-Josef-Str. 46a\, 65929 Frankfurt
END:VEVENT
BEGIN:VEVENT
DTSTART;TZID=Europe/Paris:20250918T160000
DTEND;TZID=Europe/Paris:20250918T180000
DTSTAMP:20260421T230509
CREATED:20250814T134500Z
LAST-MODIFIED:20250814T134614Z
UID:8417-1758211200-1758218400@frankfurtmain.vvn-bda.de
SUMMARY:Führung über den Friedhof Westhausen
DESCRIPTION:Spaziergang über den Friedhof Westhausen zu den Gräbern der italienischen Kriegsopfer und Partisanen. Zur Vorbereitung sollten sich alle Teilnehmenden die „Frankfurt History App“ auf ihr Handy laden. Dort ist der Weg\, den wir gehen werden\, beschrieben. Sollte jemand kein Handy haben oder die  App nicht installieren können\, kann er/sie trotzdem mitgehen. Unsere italienischen Freunde von ANPI werden uns führen und die Hintergründe erklären. \nTrffpunkt: Eingang zum Friedhof Westhausen
URL:https://frankfurtmain.vvn-bda.de/event/fuehrung-ueber-den-friedhof-westhausen/
END:VEVENT
BEGIN:VEVENT
DTSTART;TZID=Europe/Paris:20250928T190000
DTEND;TZID=Europe/Paris:20250928T210000
DTSTAMP:20260421T230509
CREATED:20250718T101225Z
LAST-MODIFIED:20250718T101225Z
UID:8390-1759086000-1759093200@frankfurtmain.vvn-bda.de
SUMMARY:Ein blinder Held – Die Liebe des Otto Weidt (BRD 2014\, R: K. Christiansen\, 90 Min.)
DESCRIPTION:Spielfilm\, der Originalaufnahmen aus dem 2. Weltkrieg mit Spielszenen\, Redebeiträgen und Kommentaren von Inge Deutschkron verbindet. Die wahre Geschichte des Bürstenfabrikanten Otto Weidt\, der mit List und Bestechung\, einer Mischung aus Täuschung\, Schauspiel\, Schmeichelei\, scheinbarer Unterwürfigkeit und Beharrlichkeit versucht\, in den 1940er Jahren seine Mitarbeiter\, die fast alle Juden und fast alle blind sind\, vor dem Zugriff der Gestapo\, vor Deportation und Holocaust zu bewahren. Doch alle\, außer Inge Deutschkron und Alice Licht werden deportiert. Als seine Sekretärin A. Licht doch nach Auschwitz deportiert wird\, macht sich Weidt\, selbst nahezu blind\, auf den Weg\, um sie zu befreien. Es gelingt ihm\, doch die Liebe zu ihr bleibt unerfüllt. Der Film endet mit einer Szene der Gegenwart: I. Deutschkron geht zum Ehrengrab Weidts auf dem Friedhof Zehlendorf und legt dort einen Strauß Blumen nieder. 1971 wurde Weidt für seine Taten postum mit dem Titel „Gerechter unter den Völkern“ geehrt. \nDer Eintritt ist frei. Mit Einleitung und anschließendem Filmgespräch.
URL:https://frankfurtmain.vvn-bda.de/event/ein-blinder-held-die-liebe-des-otto-weidt-brd-2014-r-k-christiansen-90-min/
LOCATION:Club Voltaire\, Kleine Hochstr. 5\, 60313 Frankfurt
END:VEVENT
END:VCALENDAR