BEGIN:VCALENDAR
VERSION:2.0
PRODID:-//Vereinigung der Verfolgten des Naziregimes - ECPv6.15.20//NONSGML v1.0//EN
CALSCALE:GREGORIAN
METHOD:PUBLISH
X-ORIGINAL-URL:https://frankfurtmain.vvn-bda.de
X-WR-CALDESC:Veranstaltungen für Vereinigung der Verfolgten des Naziregimes
REFRESH-INTERVAL;VALUE=DURATION:PT1H
X-Robots-Tag:noindex
X-PUBLISHED-TTL:PT1H
BEGIN:VTIMEZONE
TZID:Europe/Paris
BEGIN:DAYLIGHT
TZOFFSETFROM:+0100
TZOFFSETTO:+0200
TZNAME:CEST
DTSTART:20250330T010000
END:DAYLIGHT
BEGIN:STANDARD
TZOFFSETFROM:+0200
TZOFFSETTO:+0100
TZNAME:CET
DTSTART:20251026T010000
END:STANDARD
BEGIN:DAYLIGHT
TZOFFSETFROM:+0100
TZOFFSETTO:+0200
TZNAME:CEST
DTSTART:20260329T010000
END:DAYLIGHT
BEGIN:STANDARD
TZOFFSETFROM:+0200
TZOFFSETTO:+0100
TZNAME:CET
DTSTART:20261025T010000
END:STANDARD
BEGIN:DAYLIGHT
TZOFFSETFROM:+0100
TZOFFSETTO:+0200
TZNAME:CEST
DTSTART:20270328T010000
END:DAYLIGHT
BEGIN:STANDARD
TZOFFSETFROM:+0200
TZOFFSETTO:+0100
TZNAME:CET
DTSTART:20271031T010000
END:STANDARD
END:VTIMEZONE
BEGIN:VEVENT
DTSTART;TZID=Europe/Paris:20260508T150000
DTEND;TZID=Europe/Paris:20260508T190000
DTSTAMP:20260421T142829
CREATED:20260317T153652Z
LAST-MODIFIED:20260317T153652Z
UID:8675-1778252400-1778266800@frankfurtmain.vvn-bda.de
SUMMARY:Tag der Befreiung vom Faschismus
DESCRIPTION:Frankfurt wird ein Blumenmeer: Jede und jeder ist eingeladen\, sich am Tag der Befreiung zu beteiligen: Leg am 8. Mai eine Blume an einem Stolperstein oder an einem Gedenkort nieder.\nGedenkobjekte: https://www.frankfurt1933-1945.de/topografie/aktueller-plan/filterthemaaktuell/gedenken\nStolpersteine: https://www.stolpersteine-frankfurt.de/de/dokumentation \nAuf dem Paulsplatz findet ab 15:00 Uhr der Markt des Antifaschismus statt. Dort stellen sich die aufrufenden Organisationen und Initiativen vor.\nVorläufiges Programm:\n16:00 Uhr: Kranzniederlegung an der Paulskirche – musikalische Begleitung: Akkordeon mit Lieder der italienischen Partisanen\n16:30 Uhr: wir legen Blumen in der Braubachstraße\, der Neuen Altstadt und am Römerberg nieder\n17:00 Uhr: Paulsplatz\nIntro: Peruanische Musik\nRedebeiträge: US-amerikanischer Widerstand gegen MAGA; Dem Sozialabbau entgegentreten: Britta Brandau; Für Meinungsfreiheit\, gegen Antisemitismus: Wieland Hoban; Zukunftsentwurf Antifaschismus: Ein Dialog\nMusik: Songs der amerikanischen Friedens- und Gewerkschaftsbewegung
URL:https://frankfurtmain.vvn-bda.de/event/tag-der-befreiung-vom-faschismus-2/
LOCATION:Paulsplatz\, Paulsplatz\, 60311 Frankfurt\, Germany
END:VEVENT
BEGIN:VEVENT
DTSTART;TZID=Europe/Paris:20260509T110000
DTEND;TZID=Europe/Paris:20260509T120000
DTSTAMP:20260421T142829
CREATED:20260317T153905Z
LAST-MODIFIED:20260317T153905Z
UID:8677-1778324400-1778328000@frankfurtmain.vvn-bda.de
SUMMARY:Befreiung vom Faschismus – Gedenken an die sowjetischen Opfer
DESCRIPTION:Kranzniederlegung an den Gräbern der Soldaten der Roten Armee. \nOrt: Hauptfriedhof\, Eckenheimer Landstraße 196\, 60320 Frankfurt
URL:https://frankfurtmain.vvn-bda.de/event/befreiung-vom-faschismus-gedenken-an-die-sowjetischen-opfer/
END:VEVENT
BEGIN:VEVENT
DTSTART;TZID=Europe/Paris:20260510T140000
DTEND;TZID=Europe/Paris:20260510T160000
DTSTAMP:20260421T142829
CREATED:20260319T130108Z
LAST-MODIFIED:20260325T180011Z
UID:8679-1778421600-1778428800@frankfurtmain.vvn-bda.de
SUMMARY:Bücherlesung auf dem PAULSPLATZ – Gedenken an Bücherverbrennung 1933
DESCRIPTION:Unsere kleine Dokumentation der Ereignisse vom 10. Mai 1933 findest Du hier: https://frankfurtmain.vvn-bda.de/buecherverbrennung-10-mai-1933/ \nEs ist alarmierend\, dass seit Jahren wieder verstärkt Stimmen laut werden\, die andere Menschen ausgrenzen\, diskriminieren\, rassistisch beleidigen und dass es zu körperlichen Angriffen kommt.\nWir nehmen den 93. Jahrestag der Bücherverbrennung zum Anlass\, an die faschistischen Geschehnisse vom 10. Mai 1933 auf dem Römerberg zu erinnern und auf die Gefahren der heutigen Entwicklung aufmerksam zu machen. \nWichtiger Hinweis: Dieses Jahr findet die Lesung auf dem Paulsplatz statt. \nAuf der Veranstaltung werden kurze Ausschnitte aus Büchern oder anderen Texten von Autor*innen vorgelesen\, die von den Nazis verfolgt wurden.\nMöchtest Du Dich beteiligen? Dann melde Dich bitte an: frankfurt@vvn-bda.de
URL:https://frankfurtmain.vvn-bda.de/event/buecherlesung-auf-dem-roemerberg-gedenken-an-buecherverbrennung-1933-2/
LOCATION:Paulsplatz\, Paulsplatz\, 60311 Frankfurt\, Germany
END:VEVENT
END:VCALENDAR